Workbook

Sheet suvestinė
A1: priedo Nr. | B1: VISO | C1: DU
A2: 3 | B2: ='2026 m. asig. savaran. f-joms'!C37 -> 45405 | C2: ='2026 m. asig. savaran. f-joms'!D37 -> 22651.9 | D2: B
A3: 4 | B3: =' 2026 m. deleg. f-joms '!C38 -> 2320.616 | C3: =' 2026 m. deleg. f-joms '!D38 -> 1015.6 | D3: D
A4: 5 | B4: ='2026 m. ugdymo reikmėms'!C42 -> 12225.3 | C4: ='2026 m. ugdymo reikmėms'!D42 -> 10388.9 | D4: K
A5: 6 | B5: ='2026 m. kitos dotacijos'!C35 -> 6666.27 | C5: ='2026 m. kitos dotacijos'!D35 -> 443.843 | D5: U/C
A6: 7 | B6: ='2026 m. ES lėšos'!C39 -> 2489.3 | C6: ='2026 m. ES lėšos'!D39 -> 28.6 | D6: E
A7: 8 | B7: ='2026 m. BĮ lėšų asignavimai'!C36 -> 3600.5 | C7: ='2026 m. BĮ lėšų asignavimai'!D36 -> 1291.6 | D7: S
A8: 8 | B8: ='2026 m. BĮ lėšų asignavimai'!E36 -> 584.9 | C8: ='2026 m. BĮ lėšų asignavimai'!F36 -> 0 | D8: N
A9: aignavimai | B9: =SUM(B2:B8) -> 73291.886 | C9: =SUM(C2:C8) -> 35820.443
A10: pajamos | B10: ='pajamų priedas'!G42 -> 73380.886
B11: =B10-B9 -> 89
A12: TIKS | B12: =' 2026 m. deleg. f-joms '!C38+'2026 m. ugdymo reikmėms'!C42+'2026 m. kitos dotacijos'!C26+'2026 m. kitos dotacijos'!C29 -> 15007.416 | C12: =' 2026 m. deleg. f-joms '!D38+'2026 m. ugdymo reikmėms'!D42+'2026 m. kitos dotacijos'!D26+'2026 m. kitos dotacijos'!D29 -> 11684.3
A13: einam | B13: ='2026 m. kitos dotacijos'!C9+'2026 m. kitos dotacijos'!C22+'2026 m. kitos dotacijos'!C24+'2026 m. kitos dotacijos'!C33 -> 6158.77 | C13: ='2026 m. kitos dotacijos'!D9+'2026 m. kitos dotacijos'!D22+'2026 m. kitos dotacijos'!D24+'2026 m. kitos dotacijos'!D33 -> 118.7
B14: 3 | D14: 4 | F14: 5 | H14: 6 | J14: 7 | L14: 8 | N14: 9 | P14: 10 | R14: VISO
A15: 1 | B15: ='2026 m. asig. savaran. f-joms'!#REF! -> #REF! | C15: ='2026 m. asig. savaran. f-joms'!#REF! -> #REF! | J15: ='2026 m. ES lėšos'!#REF! -> #REF! | K15: ='2026 m. ES lėšos'!#REF! -> #REF! | L15: ='2026 m. BĮ lėšų asignavimai'!#REF!+'2026 m. BĮ lėšų asignavimai'!#REF! -> #REF! | M15: ='2026 m. BĮ lėšų asignavimai'!#REF!+'2026 m. BĮ lėšų asignavimai'!#REF! -> #REF! | R15: =B15+D15+F15+H15+J15+L15+N15+P15 -> #REF! | S15: =C15+E15+G15+I15+K15+M15+O15+Q15 -> #REF!
A16: 2 | B16: ='2026 m. asig. savaran. f-joms'!#REF! -> #REF! | C16: ='2026 m. asig. savaran. f-joms'!#REF! -> #REF! | L16: ='2026 m. BĮ lėšų asignavimai'!#REF!+'2026 m. BĮ lėšų asignavimai'!#REF! -> #REF! | M16: ='2026 m. BĮ lėšų asignavimai'!#REF!+'2026 m. BĮ lėšų asignavimai'!#REF! -> #REF! | R16: =B16+D16+F16+H16+J16+L16+N16+P16 -> #REF! | S16: =C16+E16+G16+I16+K16+M16+O16+Q16 -> #REF!
A17: 3 | B17: ='2026 m. asig. savaran. f-joms'!#REF! -> #REF! | C17: ='2026 m. asig. savaran. f-joms'!#REF! -> #REF! | R17: =B17+D17+F17+H17+J17+L17+N17+P17 -> #REF! | S17: =C17+E17+G17+I17+K17+M17+O17+Q17 -> #REF!
A18: 4 | B18: ='2026 m. asig. savaran. f-joms'!#REF! -> #REF! | C18: ='2026 m. asig. savaran. f-joms'!#REF! -> #REF! | J18: ='2026 m. ES lėšos'!#REF! -> #REF! | K18: ='2026 m. ES lėšos'!#REF! -> #REF! | L18: ='2026 m. BĮ lėšų asignavimai'!#REF!+'2026 m. BĮ lėšų asignavimai'!#REF! -> #REF! | M18: ='2026 m. BĮ lėšų asignavimai'!#REF!+'2026 m. BĮ lėšų asignavimai'!#REF! -> #REF! | R18: =B18+D18+F18+H18+J18+L18+N18+P18 -> #REF! | S18: =C18+E18+G18+I18+K18+M18+O18+Q18 -> #REF!
A19: 5 | B19: ='2026 m. asig. savaran. f-joms'!#REF! -> #REF! | C19: ='2026 m. asig. savaran. f-joms'!#REF! -> #REF! | R19: =B19+D19+F19+H19+J19+L19+N19+P19 -> #REF! | S19: =C19+E19+G19+I19+K19+M19+O19+Q19 -> #REF!
A20: 6 | B20: ='2026 m. asig. savaran. f-joms'!#REF! -> #REF! | C20: ='2026 m. asig. savaran. f-joms'!#REF! -> #REF! | J20: ='2026 m. ES lėšos'!#REF! -> #REF! | K20: ='2026 m. ES lėšos'!#REF! -> #REF! | L20: ='2026 m. BĮ lėšų asignavimai'!#REF!+'2026 m. BĮ lėšų asignavimai'!#REF! -> #REF! | M20: ='2026 m. BĮ lėšų asignavimai'!#REF!+'2026 m. BĮ lėšų asignavimai'!#REF! -> #REF! | R20: =B20+D20+F20+H20+J20+L20+N20+P20 -> #REF! | S20: =C20+E20+G20+I20+K20+M20+O20+Q20 -> #REF!
A21: 7 | B21: ='2026 m. asig. savaran. f-joms'!#REF! -> #REF! | C21: ='2026 m. asig. savaran. f-joms'!#REF! -> #REF! | J21: ='2026 m. ES lėšos'!#REF! -> #REF! | K21: ='2026 m. ES lėšos'!#REF! -> #REF! | L21: ='2026 m. BĮ lėšų asignavimai'!#REF!+'2026 m. BĮ lėšų asignavimai'!#REF! -> #REF! | M21: ='2026 m. BĮ lėšų asignavimai'!#REF!+'2026 m. BĮ lėšų asignavimai'!#REF! -> #REF! | R21: =B21+D21+F21+H21+J21+L21+N21+P21 -> #REF! | S21: =C21+E21+G21+I21+K21+M21+O21+Q21 -> #REF!
A22: 8 | B22: ='2026 m. asig. savaran. f-joms'!#REF! -> #REF! | C22: ='2026 m. asig. savaran. f-joms'!#REF! -> #REF! | J22: ='2026 m. ES lėšos'!#REF! -> #REF! | K22: ='2026 m. ES lėšos'!#REF! -> #REF! | L22: ='2026 m. BĮ lėšų asignavimai'!#REF!+'2026 m. BĮ lėšų asignavimai'!#REF! -> #REF! | M22: ='2026 m. BĮ lėšų asignavimai'!#REF!+'2026 m. BĮ lėšų asignavimai'!#REF! -> #REF! | R22: =B22+D22+F22+H22+J22+L22+N22+P22 -> #REF! | S22: =C22+E22+G22+I22+K22+M22+O22+Q22 -> #REF!
A23: 9 | B23: ='2026 m. asig. savaran. f-joms'!#REF! -> #REF! | C23: ='2026 m. asig. savaran. f-joms'!#REF! -> #REF! | J23: ='2026 m. ES lėšos'!#REF! -> #REF! | K23: ='2026 m. ES lėšos'!#REF! -> #REF! | L23: ='2026 m. BĮ lėšų asignavimai'!#REF!+'2026 m. BĮ lėšų asignavimai'!#REF! -> #REF! | M23: ='2026 m. BĮ lėšų asignavimai'!#REF!+'2026 m. BĮ lėšų asignavimai'!#REF! -> #REF! | R23: =B23+D23+F23+H23+J23+L23+N23+P23 -> #REF! | S23: =C23+E23+G23+I23+K23+M23+O23+Q23 -> #REF!
A24: 10 | B24: ='2026 m. asig. savaran. f-joms'!#REF! -> #REF! | C24: ='2026 m. asig. savaran. f-joms'!#REF! -> #REF! | J24: ='2026 m. ES lėšos'!#REF! -> #REF! | K24: ='2026 m. ES lėšos'!#REF! -> #REF! | R24: =B24+D24+F24+H24+J24+L24+N24+P24 -> #REF! | S24: =C24+E24+G24+I24+K24+M24+O24+Q24 -> #REF!
B25: =SUM(B15:B24) -> #REF! | C25: =SUM(C15:C24) -> #REF! | D25: =SUM(D15:D24) -> 0 | E25: =SUM(E15:E24) -> 0 | F25: =SUM(F15:F24) -> 0 | G25: =SUM(G15:G24) -> 0 | H25: =SUM(H15:H24) -> 0 | I25: =SUM(I15:I24) -> 0 | ... S25: =SUM(S15:S24) -> #REF!
B27: =B12+B13 -> 21166.186 | C27: =C12+C13 -> 11803

Sheet 2026-2028 m. pajamos
F1: Projektas
F2: 1 priedas
F3: 2026 m. biudžeto projektas
F4: 1 priedas
A5: PALANGOS MIESTO SAVIVALDYBĖS 2026-2028 METŲ BIUDŽETO PAJAMŲ PLANAS
A7: Eil. Nr. | F7: Pajamų pavadinimas | G7: Pajamos, tūkst. Eur
G8: 2026 m. | H8: 2027 m. | I8: 2028 m.
A9: 1 | F9: 2 | G9: 3 | H9: 4 | I9: 5
A10: 1 | B10: MOKESČIAI | G10: =G11+G13+G17 -> 38367 | H10: =H11+H13+H17 -> 40920 | I10: =I11+I13+I17 -> 43057
A11: 2 | C11: Pajamų ir pelno mokesčiai | G11: =ROUND(G12,1) -> 33169 | H11: =ROUND(H12,1) -> 35725 | I11: =ROUND(I12,1) -> 37762
A12: 3 | D12: Gyventojų pajamų mokestis | G12: 33169 | H12: 35725 | I12: 37762
A13: 4 | C13: Turto mokesčiai | G13: =SUM(G14:G16) -> 5115 | H13: =SUM(H14:H16) -> 5115 | I13: =SUM(I14:I16) -> 5215
A14: 5 | D14: Žemės mokestis | G14: 1700 | H14: 1700 | I14: 1700
A15: 6 | D15: Paveldimo turto mokestis | G15: 15 | H15: 15 | I15: 15
A16: 7 | D16: Nekilnojamojo turto mokestis | G16: 3400 | H16: 3400 | I16: 3500
A17: 8 | C17: Prekių ir paslaugų mokesčiai | G17: =SUM(G18) -> 83 | H17: =SUM(H18) -> 80 | I17: =SUM(I18) -> 80
A18: 9 | D18: Mokesčiai už aplinkos teršimą | G18: 83 | H18: 80 | I18: 80
A19: 10 | B19: DOTACIJOS | G19: =G20 -> 23701.5 | H19: =H20 -> 29182.8 | I19: =I20 -> 19357.6
A20: 11 | C20: Dotacijos iš kitų valdžios sektoriaus subjektų | G20: =G21+G22+G23 -> 23701.5 | H20: =H21+H22+H23 -> 29182.8 | I20: =I21+I22+I23 -> 19357.6
A21: 12 | E21: Speciali tikslinė dotacija savivaldybėms | G21: 15007.4 | H21: 15007.4 | I21: 15007.4
A22: 13 | E22: Dotacija savivaldybėms iš Europos Sąjungos, kitos tarptautinės finansinės paramos ir bendrojo finansavimo lėšų | G22: 2489.3 | H22: 9297.6 | I22: 3894.6
A23: 14 | E23: Kitos dotacijos | G23: 6204.8 | H23: 4877.8 | I23: 455.6
A24: 15 | B24: KITOS PAJAMOS | G24: =G25+G31+G38+G39 -> 11131.4 | H24: =H25+H31+H38+H39 -> 11313.7 | I24: =I25+I31+I38+I39 -> 11414.5
A25: 16 | C25: Turto pajamos | G25: =SUM(G26:G30) -> 1112 | H25: =SUM(H26:H30) -> 1115 | I25: =SUM(I26:I30) -> 1185
A26: 17 | D26: Nuomos mokestis už valstybinę žemę | G26: 900 | H26: 920 | I26: 950
A27: 18 | D27: Palūkanos | G27: 125 | H27: 145 | I27: 165
A28: 19 | D28: Dividendai | G28: 0 | H28: 0 | I28: 20
A29: 20 | D29: Mokesčiai už valstybinius gamtos išteklius | G29: 62 | H29: 25 | I29: 25
A30: 21 | D30: Angliavandenilių išteklių mokestis | G30: 25 | H30: 25 | I30: 25
A31: 22 | C31: Pajamos už prekes ir paslaugas | G31: =SUM(G32:G37) -> 9659.4 | H31: =SUM(H32:H37) -> 9788.7 | I31: =SUM(I32:I37) -> 9819.5
A32: 23 | D32: Biudžetinių įstaigų pajamos už prekes ir paslaugas | G32: 2210.2 | H32: 2212 | I32: 2220.2
A33: 24 | D33: Infrastruktūros plėtros įmokos | G33: 700 | H33: 700 | I33: 700
A34: 25 | D34: Pajamos už ilgalaikio ir trumpalaikio materialiojo turto nuomą | G34: 584.9 | H34: 587 | I34: 587.8
A35: 26 | D35: Įmokos už išlaikymą švietimo, socialinės apsaugos ir kitose įstaigose | G35: 690.3 | H35: 719.7 | I35: 741.5
A36: 27 | D36: Valstybės rinkliava | G36: 70 | H36: 70 | I36: 70
A37: 28 | D37: Vietinė rinkliava | G37: 5404 | H37: 5500 | I37: 5500
A38: 29 | C38: Pajamos iš baudų, konfiskuoto turto ir kitų netesybų | G38: 200 | H38: 200 | I38: 200
A39: 30 | C39: Kitos neišvardytos pajamos | G39: 160 | H39: 210 | I39: 210
A40: 31 | B40: MATERIALIOJO IR NEMATERIALIOJO TURTO REALIZAVIMO PAJAMOS | G40: =SUM(G42:G43) -> 92 | H40: =SUM(H42:H43) -> 0 | I40: =SUM(I42:I43) -> 0
A41: 32 | C41: Ilgalaikio materialiojo turto realizavimo pajamos | G41: =SUM(G42:G43) -> 92 | H41: =SUM(H42:H43) -> 0 | I41: =SUM(I42:I43) -> 0
A42: 33 | D42: Žemės realizavimo pajamos | G42: 72 | H42: 0 | I42: 0
A43: 34 | D43: Pastatų ir statinių realizavimo pajamos | G43: 20 | H43: 0 | I43: 0
A44: 35 | B44: BIUDŽETO PAJAMOS, IŠ VISO | G44: =SUM(G10+G19+G24+G40) -> 73291.9 | H44: =SUM(H10+H19+H24+H40) -> 81416.5 | I44: =SUM(I10+I19+I24+I40) -> 73829.1
A45: 36 | B45: FINANSINIŲ ĮSIPAREIGOJIMŲ PRISIĖMIMO PAJAMOS (SKOLINIMASIS) | G45: =G46 -> 3000 | H45: =H46 -> 0 | I45: =I46 -> 0
A46: 37 | D46: Ilgalaikės paskolos (gautos) | G46: 3000
A47: 38 | B47: Metų pradžios lėšų likutis | G47: =G48+G49+G50+G51 -> 8983.3 | H47: =H48+H49+H50+H51 -> 0 | I47: =I48+I49+I50+I51 -> 0
A48: 39 | B48: *savivaldybės biudžeto lėšų likutis | G48: 6489.5
A49: 40 | B49: *tikslinės paskirties programų lėšų likutis | G49: 1440.1
A50: 41 | B50: *biudžetinių įstaigų pajamų lėšų likutis | G50: 677.8
A51: 42 | B51: *Europos Sąjungos finansinės paramos lėšų likutis | G51: 375.9
A53: ______________________________

Sheet 2026-2028 m. asignavimai
B1: 2026 m. biudžeto projektas
B2: 2 priedas
A4: PALANGOS MIESTO SAVIVALDYBĖS BIUDŽETO ASIGNAVIMŲ VALDYTOJŲ 2026-2028 METAMS PLANUOJAMOS ASIGNAVIMŲ SUMOS
A6: Eil. Nr. | B6: Asignavimų valdytojas | C6: Asignavimai, tūkst. Eur
C7: 2026 m. | D7: 2027 m. | E7: 2028 m.
A9: 1 | B9: 2 | C9: 3 | D9: 4 | E9: 5
A10: 1 | B10: Palangos miesto savivaldybės administracija | C10: 35662.7 | D10: 42854.5 | E10: 34838.3
A11: 2 | B11: Palangos miesto savivaldybės kontrolės ir audito tarnyba | C11: 194 | D11: 200 | E11: 205
A12: 3 | B12: Palangos miesto rinkliavų centras | C12: 1190.6 | D12: 1493.5 | E12: 1557.9
A13: 4 | B13: Palangos miesto botanikos parkas | C13: 1047.9 | D13: 1408.6 | E13: 1397.7
A14: 5 | B14: Palangos investicijų valdymas | C14: 2240 | D14: 2180 | E14: 2180
A15: 6 | B15: Palangos turizmo informacijos centras | C15: 624.2 | D15: 496.6 | E15: 515.3
A16: 7 | B16: Palangos miesto savivaldybės visuomenės sveikatos biuras | C16: 424.4 | D16: 422.8 | E16: 409
A17: 8 | B17: Palangos miesto savivaldybės viešoji biblioteka | C17: 955.2 | D17: 969.3 | E17: 982.9
A18: 9 | B18: Palangos kultūros centras | C18: 1225.2 | D18: 1179.4 | E18: 1172.1
A19: 10 | B19: Palangos kurorto muziejus | C19: 400 | D19: 388.1 | E19: 384.8
A20: 11 | B20: Palangos jaunimo ir savanorystės centras | C20: 420.5 | D20: 375.1 | E20: 364.7
A21: 12 | B21: Palangos lopšelis-darželis „Sigutė“ | C21: 885.7 | D21: 914.1 | E21: 952.6
... A38: 29 | B38: Palangos socialinių paslaugų centras | C38: 2047 | D38: 2041.1 | E38: 2021.4
A39: 30 | B39: IŠ VISO ASIGNAVIMŲ | C39: =SUM(C10:C38) -> 73291.9 | D39: =SUM(D10:D38) -> 81416.5 | E39: =SUM(E10:E38) -> 73829.1
A41: ____________________________________

Sheet 2026-2028 m. asignavimai DU
B1: 2026 m. biudžeto projektas
B2: 3 priedas
A4: PALANGOS MIESTO SAVIVALDYBĖS BIUDŽETO ASIGNAVIMŲ VALDYTOJŲ 2026-2028 METAMS PLANUOJAMOS ASIGNAVIMŲ DARBO UŽMOKESČIUI SUMOS
A6: Eil. Nr. | B6: Asignavimų valdytojas | C6: Asignavimai, tūkst. Eur
C7: 2026 m. | D7: 2027 m. | E7: 2028 m.
A9: 1 | B9: 2 | C9: 3 | D9: 4 | E9: 5
A10: 1 | B10: Palangos miesto savivaldybės administracija | C10: 6753 | D10: 6960.5 | E10: 7517.1
A11: 2 | B11: Palangos miesto savivaldybės kontrolės ir audito tarnyba | C11: 177.9 | D11: 180 | E11: 180
A12: 3 | B12: Palangos miesto rinkliavų centras | C12: 732 | D12: 1021.5 | E12: 1072.5
A13: 4 | B13: Palangos miesto botanikos parkas | C13: 751 | D13: 815.4 | E13: 815.4
A14: 5 | B14: Palangos investicijų valdymas | C14: 998.3 | D14: 1028.2 | E14: 1059.6
A15: 6 | B15: Palangos turizmo informacijos centras | C15: 192.8 | D15: 204.7 | E15: 216.5
A16: 7 | B16: Palangos miesto savivaldybės visuomenės sveikatos biuras | C16: 301.2 | D16: 301.2 | E16: 301.2
A17: 8 | B17: Palangos miesto savivaldybės viešoji biblioteka | C17: 732.6 | D17: 836 | E17: 920
A18: 9 | B18: Palangos kultūros centras | C18: 707.4 | D18: 748.4 | E18: 748.4
A19: 10 | B19: Palangos kurorto muziejus | C19: 277 | D19: 290.3 | E19: 290.3
A20: 11 | B20: Palangos jaunimo ir savanorystės centras | C20: 149.1 | D20: 157.9 | E20: 159.3
A21: 12 | B21: Palangos lopšelis-darželis „Sigutė“ | C21: 778.3 | D21: 830.6 | E21: 830.6
... A38: 29 | B38: Palangos socialinių paslaugų centras | C38: 1734.5 | D38: 1777.1 | E38: 1777.1
A39: 30 | B39: IŠ VISO ASIGNAVIMŲ | C39: =SUM(C10:C38) -> 35820.4 | D39: =SUM(D10:D38) -> 37940.3 | E39: =SUM(E10:E38) -> 39330.1
A41: ____________________________________

Sheet pajamų priedas
F1: Projektas
F2: 1 priedas
A4: PALANGOS MIESTO SAVIVALDYBĖS 2026 METŲ BIUDŽETO PAJAMŲ PLANAS
A6: Eil. Nr. | F6: Pajamų pavadinimas | G6: Pajamos, tūkst. Eur
A7: 1 | F7: 2 | G7: 3
A8: 1 | B8: MOKESČIAI | G8: =G9+G11+G15 -> 38367
A9: 2 | C9: Pajamų ir pelno mokesčiai | G9: =ROUND(G10,1) -> 33169
A10: 3 | D10: Gyventojų pajamų mokestis | G10: 33169
A11: 4 | C11: Turto mokesčiai | G11: =SUM(G12:G14) -> 5115
A12: 5 | D12: Žemės mokestis | G12: 1700
A13: 6 | D13: Paveldimo turto mokestis | G13: 15
A14: 7 | D14: Nekilnojamojo turto mokestis | G14: 3400
A15: 8 | C15: Prekių ir paslaugų mokesčiai | G15: =SUM(G16) -> 83
A16: 9 | D16: Mokesčiai už aplinkos teršimą | G16: 83
A17: 10 | B17: DOTACIJOS | G17: =G18 -> 23701.486
A18: 11 | C18: Dotacijos iš kitų valdžios sektoriaus subjektų | G18: =G19+G20+G21 -> 23701.486
A19: 12 | E19: Speciali tikslinė dotacija savivaldybėms | G19: =' 2026 m. deleg. f-joms '!C38+'2026 m. ugdymo reikmėms'!C42+'2026 m. kitos dotacijos'!C26+'2026 m. kitos dotacijos'!C29 -> 15007.416
A20: 13 | E20: Dotacija savivaldybėms iš Europos Sąjungos, kitos tarptautinės finansinės paramos ir bendrojo finansavimo lėšų | G20: ='2026 m. ES lėšos'!C39 -> 2489.3
A21: 14 | E21: Kitos dotacijos | G21: ='2026 m. kitos dotacijos'!C35-'2026 m. kitos dotacijos'!C26-'2026 m. kitos dotacijos'!C29 -> 6204.77
A22: 15 | B22: KITOS PAJAMOS | G22: =G23+G29+G36+G37 -> 11220.4
A23: 16 | C23: Turto pajamos | G23: =SUM(G24:G28) -> 1112
A24: 17 | D24: Nuomos mokestis už valstybinę žemę | G24: 900
A25: 18 | D25: Palūkanos | G25: 125
A26: 19 | D26: Dividendai | G26: 0
A27: 20 | D27: Mokesčiai už valstybinius gamtos išteklius | G27: 62
A28: 21 | D28: Angliavandenilių išteklių mokestis | G28: 25
A29: 22 | C29: Pajamos už prekes ir paslaugas | G29: =SUM(G30:G35) -> 9748.4
A30: 23 | D30: Biudžetinių įstaigų pajamos už prekes ir paslaugas | G30: 2210.2
A31: 24 | D31: Infrastruktūros plėtros įmokos | G31: 700
A32: 25 | D32: Pajamos už ilgalaikio ir trumpalaikio materialiojo turto nuomą | G32: 584.9
A33: 26 | D33: Įmokos už išlaikymą švietimo, socialinės apsaugos ir kitose įstaigose | G33: 690.3
A34: 27 | D34: Valstybės rinkliava | G34: 70
A35: 28 | D35: Vietinė rinkliava | G35: 5493
A36: 29 | C36: Pajamos iš baudų, konfiskuoto turto ir kitų netesybų | G36: 200
A37: 30 | C37: Kitos neišvardytos pajamos | G37: 160
A38: 31 | B38: MATERIALIOJO IR NEMATERIALIOJO TURTO REALIZAVIMO PAJAMOS | G38: =SUM(G40:G41) -> 92
A39: 32 | C39: Ilgalaikio materialiojo turto realizavimo pajamos | G39: =SUM(G40:G41) -> 92
A40: 33 | D40: Žemės realizavimo pajamos | G40: 72
A41: 34 | D41: Pastatų ir statinių realizavimo pajamos | G41: 20
A42: 35 | B42: BIUDŽETO PAJAMOS, IŠ VISO | G42: =SUM(G8+G17+G22+G38) -> 73380.886
A43: 36 | B43: FINANSINIŲ ĮSIPAREIGOJIMŲ PRISIĖMIMO PAJAMOS (SKOLINIMASIS) | G43: =G44 -> 3000
A44: 37 | D44: Ilgalaikės paskolos (gautos) | G44: 3000
A45: 38 | B45: Metų pradžios lėšų likutis | G45: =G46+G47+G48+G49 -> 8983.3
A46: 39 | B46: *savivaldybės biudžeto lėšų likutis | G46: 6489.5
A47: 40 | B47: *tikslinės paskirties programų lėšų likutis | G47: 1440.1
A48: 41 | B48: *biudžetinių įstaigų pajamų lėšų likutis | G48: 677.8
A49: 43 | B49: *Europos Sąjungos finansinės paramos lėšų likutis | G49: 375.9
A51: ______________________________
F52: SB | G52: =G8+G23+G34+G35+G36+G37+G38 -> 45494
F53: IŠ JŲ: SB (AA) | G53: =G16+G27+G28 -> 170
G55: =G42+G45 -> 82364.186

Sheet 2026 m. BĮ pajamos
A1: 2026 m. biudžeto projektas
A2: 4 priedas
A4: BIUDŽETINIŲ ĮSTAIGŲ PAJAMŲ ĮMOKOS
A5: Į PALANGOS MIESTO SAVIVALDYBĖS 2026 METŲ BIUDŽETĄ
A7: Eil. Nr. | B7: Įstaigų pavadinimas | C7: Iš viso, tūkst. Eur | D7: iš jų
D8: įmokos už išlaikymą švietimo, socialinės apsaugos ir kitose įstaigose | E8: pajamos už prekes ir paslaugas | F8: pajamos už ilgalaikio ir trumpalaikio materialiojo turto nuomą
A12: 1 | B12: 2 | C12: 3 | D12: 4 | E12: 5 | F12: 6
A13: 1 | B13: Palangos miesto savivaldybės administracija | C13: =ROUND(D13+E13+F13,1) -> 1065.3 | E13: 700.4 | F13: 364.9
A14: 2 | B14: Palangos miesto viešosios tvarkos ir rinkliavų tarnyba | C14: =ROUND(D14+E14+F14,1) -> 198 | E14: 140 | F14: 58
A15: 3 | B15: Palangos miesto botanikos parkas | C15: =ROUND(D15+E15+F15,1) -> 90.3 | E15: 45.8 | F15: 44.5
A16: 4 | B16: Palangos investicijų valdymas | C16: =ROUND(D16+E16+F16,1) -> 1450 | E16: 1380 | F16: 70
A17: 5 | B17: Palangos turizmo informacijos centras | C17: =ROUND(D17+E17+F17,1) -> 13.7 | E17: 11 | F17: 2.7
A18: 6 | B18: Palangos miesto savivaldybės visuomenės sveikatos biuras | C18: =ROUND(D18+E18+F18,1) -> 4.5 | E18: 4.5
A19: 7 | B19: Palangos miesto savivaldybės viešoji biblioteka | C19: =ROUND(D19+E19+F19,1) -> 7.6 | E19: 4.3 | F19: 3.3
A20: 8 | B20: Palangos kurorto muziejus | C20: =ROUND(D20+E20+F20,1) -> 15.5 | E20: 14 | F20: 1.5
A21: 9 | B21: Palangos kultūros centras | C21: =ROUND(D21+E21+F21,1) -> 90 | E21: 60 | F21: 30
A22: 10 | B22: Palangos jaunimo ir savanorystės centras | C22: =ROUND(D22+E22+F22,1) -> 2 | F22: 2
A23: 11 | B23: Palangos lopšelis-darželis „Sigutė“ | C23: =ROUND(D23+E23+F23,1) -> 30.3 | D23: 25.2 | E23: 5.1
A24: 12 | B24: Palangos lopšelis-darželis „Ąžuoliukas“ | C24: =ROUND(D24+E24+F24,1) -> 48.1 | D24: 37.1 | E24: 10.5 | F24: 0.5
A25: 13 | B25: Palangos lopšelis-darželis „Žilvinas“ | C25: =ROUND(D25+E25+F25,1) -> 81.3 | D25: 65.9 | E25: 14.6 | F25: 0.8
A26: 14 | B26: Palangos lopšelis-darželis „Nykštukas“ | C26: =ROUND(D26+E26+F26,1) -> 106.3 | D26: 86.3 | E26: 18.5 | F26: 1.5
A27: 15 | B27: Palangos lopšelis-darželis „Gintarėlis“ | C27: =ROUND(D27+E27+F27,1) -> 91.9 | D27: 73.6 | E27: 15.8 | F27: 2.5
A28: 16 | B28: Palangos lopšelis-darželis „Pasaka“ | C28: =ROUND(D28+E28+F28,1) -> 72.2 | D28: 58.6 | E28: 13.4 | F28: 0.2
A29: 17 | B29: Palangos pradinė mokykla | C29: =ROUND(D29+E29+F29,1) -> 27.5 | E29: 27.5
A30: 18 | B30: Palangos Šventosios pagrindinė mokykla | C30: =ROUND(D30+E30+F30,1) -> 69 | E30: 69
A31: 19 | B31: Palangos senoji gimnazija | C31: =ROUND(D31+E31+F31,1) -> 62.6 | E31: 62.6
A32: 20 | B32: Palangos ,,Baltijos“ pagrindinė mokykla | C32: =ROUND(D32+E32+F32,1) -> 84.6 | E32: 84.6
A33: 21 | B33: Palangos Vlado Jurgučio progimnazija | C33: =ROUND(D33+E33+F33,1) -> 45.5 | E33: 45.5
A34: 22 | B34: Palangos sporto centras | C34: =ROUND(D34+E34+F34,1) -> 110 | E34: 110
A35: 23 | B35: Palangos Stasio Vainiūno meno mokykla | C35: =ROUND(D35+E35+F35,1) -> 71.3 | D35: 62.4 | E35: 8.9
A36: 24 | B36: Palangos švietimo pagalbos tarnyba | C36: =ROUND(D36+E36+F36,1) -> 10.3 | E36: 7.8 | F36: 2.5
A37: 25 | B37: Palangos miesto globos namai | C37: =ROUND(D37+E37+F37,1) -> 281.2 | D37: 281.2
A38: 26 | B38: Palangos socialinių paslaugų centras | C38: =ROUND(D38+E38+F38,1) -> 56.4 | E38: 56.4
A39: 27 | B39: IŠ VISO | C39: =SUM(C13:C38) -> 4185.4 | D39: =SUM(D13:D38) -> 690.3 | E39: =SUM(E13:E38) -> 2910.2 | F39: =SUM(F13:F38) -> 584.9
A41: ____________________________________

Sheet 2026 m. asig. savaran. f-joms
A1: 2026 m. biudžeto projektas
A2: 5 priedas
A4: PALANGOS MIESTO SAVIVALDYBĖS 2026 METŲ BIUDŽETO ASIGNAVIMAI SAVARANKIŠKOSIOMS SAVIVALDYBĖS FUNKCIJOMS
A6: Eil. Nr. | B6: Asignavimų valdytojas | C6: Asignavimai, tūkst. Eur
C7: Iš viso | D7: iš jų darbo užmokesčiui
A8: 1 | B8: 2 | C8: 3 | D8: 4
A9: 1 | B9: Palangos miesto savivaldybės administracija | C9: 22944.7 | D9: 6013.6
A10: 2 | B10: Palangos miesto savivaldybės kontrolės ir audito tarnyba | C10: 194 | D10: 177.9
A11: 3 | B11: Palangos miesto viešosios tvarkos ir rinkliavų tarnyba | C11: 992.6 | D11: 732
A12: 4 | B12: Palangos miesto botanikos parkas | C12: 912.9 | D12: 722.1
A13: 5 | B13: Palangos investicijų valdymas | C13: 790
A14: 6 | B14: Palangos turizmo informacijos centras | C14: 610.5 | D14: 192.8
A15: 7 | B15: Palangos miesto savivaldybės visuomenės sveikatos biuras | C15: 211.2 | D15: 153
A16: 8 | B16: Palangos miesto savivaldybės viešoji biblioteka | C16: 924.9 | D16: 732.6
A17: 9 | B17: Palangos kultūros centras | C17: 1065.2 | D17: 707.4
A18: 10 | B18: Palangos kurorto muziejus | C18: 384.5 | D18: 277
A19: 11 | B19: Palangos jaunimo ir savanorystės centras | C19: 373.9 | D19: 149.1
A20: 12 | B20: Palangos lopšelis-darželis „Sigutė“ | C20: 632.1 | D20: 560.9
A21: 13 | B21: Palangos lopšelis-darželis „Ąžuoliukas“ | C21: 791.8 | D21: 674.5
A22: 14 | B22: Palangos lopšelis-darželis „Žilvinas“ | C22: 1152.8 | D22: 930.9
A23: 15 | B23: Palangos lopšelis-darželis „Nykštukas“ | C23: 1086.9 | D23: 859.7
A24: 16 | B24: Palangos lopšelis-darželis „Gintarėlis“ | C24: 1025.4 | D24: 791.5
A25: 17 | B25: Palangos lopšelis-darželis „Pasaka“ | C25: 1103.6 | D25: 872.2
... A36: 28 | B36: Palangos socialinių paslaugų centras | C36: 1639.2 | D36: 1433.5
A37: 29 | B37: IŠ VISO ASIGNAVIMŲ | C37: =SUM(C9:C36) -> 45405 | D37: =SUM(D9:D36) -> 22651.9
A39: ____________________________________

Sheet   2026 m. deleg. f-joms 
A1: 2026 m. biudžeto projektas
A2: 6 priedas
A4: PALANGOS MIESTO SAVIVALDYBĖS 2026 METŲ BIUDŽETO ASIGNAVIMAI VALSTYBINĖMS (VALSTYBĖS PERDUOTOMS SAVIVALDYBĖMS) FUNKCIJOMS ATLIKTI
A6: Eil. Nr. | B6: Asignavimų valdytojas | C6: Asignavimai, tūkst. Eur
C7: Iš viso | D7: iš jų darbo užmokesčiui
A8: 1 | B8: 2 | C8: 3 | D8: 4
A9: 1 | B9: Palangos miesto savivaldybės administracija - iš viso, iš jų: | C9: =C10+C11+C12+C13+C14+C15+C16+C17+C18+C19+C20+C21+C22+C23+C24+C27+C25+C26 -> 1911.116 | D9: =D10+D11+D12+D13+D14+D15+D16+D17+D18+D19+D20+D21+D22+D23+D24+D27+D25+D26 -> 653.6
A10: 2 | B10: Valstybės garantuojamai pirminei teisinei pagalbai teikti | C10: 3.8 | D10: 3.1
A11: 3 | B11: Savivaldybėms priskirtiems archyviniams dokumentams tvarkyti | C11: 8.7 | D11: 7.3
A12: 4 | B12: Jaunimo teisių apsaugai | C12: 25.9 | D12: 16.9
A13: 5 | B13: Valstybinės kalbos vartojimo ir taisyklingumo kontrolei | C13: 9 | D13: 8.9
A14: 6 | B14: Civilinės būklės aktams registruoti | C14: 25.4 | D14: 22.7
A15: 7 | B15: Gyventojų registrui tvarkyti ir duomenims valstybės registrams teikti | C15: 0.3 | D15: 0.3
A16: 8 | B16: Gyvenamosios vietos deklaravimo duomenų ir gyvenamosios vietos nedeklaravusių asmenų apskaitos duomenims tvarkyti | C16: 1.9 | D16: 1.5
A17: 9 | B17: Duomenims į Suteiktos valstybės pagalbos ir nereikšmingos pagalbos registrą teikti | C17: 0.1
A18: 10 | B18: Dalyvauti rengiant ir vykdant mobilizaciją, demobilizaciją, priimančios šalies paramą | C18: 48.8 | D18: 30.2
A19: 11 | B19: Civilinės saugos organizavimui | C19: 44.8 | D19: 41.8
A20: 12 | B20: Savivaldybėms priskirtos ir perduotos valstybinės žemės administracinėse ribose valdymui, naudojimui ir disponavimui ja patikėjimo teise užtikrinti | C20: 66.5 | D20: 65
A21: 13 | B21: Savivaldybių patvirtintoms užimtumo didinimo programoms įgyvendinti | C21: 40.4 | D21: 27.9
A22: 14 | B22: Būsto nuomos mokesčio daliai kompensuoti | C22: 44.2
A23: 15 | B23: Valstybei nuosavybės teise priklausančių melioracijos ir hidrotechnikos statinių valdymui ir naudojimui patikėjimo teise | C23: 81.1
A24: 16 | B24: Žemės ūkio funkcijoms atlikti | C24: 36.1 | D24: 31.5
A25: 17 | B25: Koordinuotai teikiamų švietimo pagalbos, socialinių ir sveikatos priežiūros paslaugų vaikams ir jų tėvams (globėjams, rūpintojams) teikimo užtikrinimui | C25: 36.456 | D25: 35.9
A26: 18 | B26: Savivaldybės erdvinių duomenų rinkiniams tvarkyti, organizuoti ir vykdyti | C26: 30.56 | D26: 15.6
A27: 19 | B27: Socialinės apsaugos priemonėms - iš viso, iš jų: | C27: =C28+C29+C30+C31+C32 -> 1407.1 | D27: =D28+D29+D30+D31+D32 -> 345
A28: 20 | B28: Socialinėms išmokoms ir kompensacijoms skaičiuoti ir mokėti | C28: 153.8 | D28: 3.5
A29: 21 | B29: Socialinėms išmokoms ir kompensacijoms nepriklausomybės gynėjams skaičiuoti ir mokėti | C29: 4.1
A30: 22 | B30: Socialinei paramai mokiniams | C30: 337 | D30: 8.5
A31: 23 | B31: Socialinėms paslaugoms | C31: 908.9 | D31: 329.8
A32: 24 | B32: Neveiksnių asmenų būklės peržiūrėjimui | C32: 3.3 | D32: 3.2
A33: 25 | B33: Palangos miesto savivaldybės visuomenės sveikatos biuras - iš viso, iš jų: | C33: =C34+C35 -> 189.5 | D33: =D34+D35 -> 148.2
A34: 26 | B34: Plėtoti sveiką gyvenseną bei stiprinti sveikos gyvensenos įgūdžius ugdymo įstaigose ir bendruomenėse, vykdyti visuomenės sveikatos stebėseną savivaldybėje | C34: 137.92 | D34: 124.7
A35: 27 | B35: Plėtoti psichikos sveikatos stiprinimo, psichosocialinės pagalbos ir savižudžių prevencijos intervencijai | C35: 51.58 | D35: 23.5
A36: 28 | B36: Palangos socialinių paslaugų centras - iš viso, iš jų: | C36: =ROUND(C37,1) -> 220 | D36: =ROUND(D37,1) -> 213.8
A37: 29 | B37: Socialinėms paslaugoms - socialinei priežiūrai socialinės rizikos šeimoms | C37: 220 | D37: 213.8
A38: 30 | B38: IŠ VISO ASIGNAVIMŲ | C38: =C9+C33+C36 -> 2320.616 | D38: =D9+D33+D36 -> 1015.6
A40: _______________________

Sheet 2026 m. ugdymo reikmėms
A1: 2026 m. biudžeto projektas
A2: 7 priedas
A4: PALANGOS MIESTO SAVIVALDYBĖS 2026 METŲ BIUDŽETO ASIGNAVIMAI IŠ SPECIALIOS TIKSLINĖS VALSTYBĖS DOTACIJOS UGDYMO REIKMĖMS FINANSUOTI
A5: Eil. Nr. | B5: Asignavimų valdytojas | C5: Asignavimai, tūkst. Eur
C6: Iš viso | D6: iš jų darbo užmokesčiui
A7: 1 | B7: 2 | C7: 3 | D7: 4
A8: 1 | B8: Palangos lopšelis-darželis „Sigutė“- iš viso, iš jų: | C8: =C9+C10 -> 218.5 | D8: =D9+D10 -> 212.7
A9: 2 | B9: ikimokyklinis ugdymas | C9: 167.3 | D9: 162.8
A10: 3 | B10: priešmokyklinis ugdymas | C10: 51.2 | D10: 49.9
A11: 4 | B11: Palangos lopšelis-darželis „Ąžuoliukas“ - iš viso, iš jų: | C11: =C12+C13 -> 292.2 | D11: =D12+D13 -> 284.1
A12: 5 | B12: ikimokyklinis ugdymas | C12: 241.1 | D12: 234.5
A13: 6 | B13: priešmokyklinis ugdymas | C13: 51.1 | D13: 49.6
A14: 7 | B14: Palangos lopšelis-darželis „Žilvinas“ - iš viso, iš jų: | C14: =C15+C16 -> 589.1 | D14: =D15+D16 -> 572.8
A15: 8 | B15: ikimokyklinis ugdymas | C15: 434.6 | D15: 422.5
A16: 9 | B16: priešmokyklinis ugdymas | C16: 154.5 | D16: 150.3
A17: 10 | B17: Palangos lopšelis-darželis „Nykštukas“ - iš viso, iš jų: | C17: =C18+C19 -> 560.5 | D17: =D18+D19 -> 543.3
A18: 11 | B18: ikimokyklinis ugdymas | C18: 461.3 | D18: 447.4
A19: 12 | B19: priešmokyklinis ugdymas | C19: 99.2 | D19: 95.9
A20: 13 | B20: Palangos lopšelis-darželis „Gintarėlis“ - iš viso, iš jų: | C20: =C21+C22 -> 488.2 | D20: =D21+D22 -> 473.1
A21: 14 | B21: ikimokyklinis ugdymas | C21: 388.1 | D21: 376.4
A22: 15 | B22: priešmokyklinis ugdymas | C22: 100.1 | D22: 96.7
A23: 16 | B23: Palangos lopšelis-darželis „Pasaka“ - iš viso, iš jų: | C23: =C24+C25 -> 389 | D23: =D24+D25 -> 377.4
A24: 17 | B24: ikimokyklinis ugdymas | C24: 288.5 | D24: 279.8
A25: 18 | B25: priešmokyklinis ugdymas | C25: 100.5 | D25: 97.6
A26: 19 | B26: Palangos pradinė mokykla - iš viso, iš jų: | C26: 220.9 | D26: 213.1
A27: 20 | B27: skaitmeninio ugdymo plėtra
A28: 21 | B28: Palangos Šventosios pagrindinė mokykla - iš viso, iš jų: | C28: 653.4 | D28: 637.4
A29: 22 | B29: skaitmeninio ugdymo plėtra
A30: 23 | B30: Palangos senoji gimnazija - iš viso, iš jų: | C30: 2051.9 | D30: 1991
A31: 24 | B31: skaitmeninio ugdymo plėtra
A32: 25 | B32: Palangos Vlado Jurgučio progimnazija - iš viso, iš jų: | C32: 1670.7 | D32: 1615.5
A33: 26 | B33: skaitmeninio ugdymo plėtra
A34: 27 | B34: Palangos ,,Baltijos“ pagrindinė mokykla - iš viso, iš jų: | C34: 2533.7 | D34: 2465.9
A35: 28 | B35: skaitmeninio ugdymo plėtra
A36: 29 | B36: Palangos sanatorinė mokykla - iš viso, iš jų: | C36: =C37+C38+C39 -> 884.6 | D36: =D37+D38 -> 865.2
A37: 30 | B37: bendrasis ugdymas | C37: 778.7 | D37: 761.6
A38: 31 | B38: priešmokyklinis ugdymas | C38: 105.9 | D38: 103.6
A39: 32 | B39: skaitmeninio ugdymo plėtra
A40: 33 | B40: Palangos švietimo pagalbos tarnyba | C40: 139.4 | D40: 137.4
A41: 34 | B41: Palangos miesto savivaldybės administracija | C41: 1533.2
A42: 35 | B42: IŠ VISO ASIGNAVIMŲ | C42: =C8+C11+C14+C17+C20+C23+C26+C28+C30+C32+C34+C36+C40+C41 -> 12225.3 | D42: =D8+D11+D14+D17+D20+D23+D26+D28+D30+D32+D34+D36+D40+D41 -> 10388.9
B43: _____________________________________

Sheet 2026 m. kitos dotacijos
A1: 2026 m. biudžeto projektas
A2: 8 priedas
A4: PALANGOS MIESTO SAVIVALDYBĖS 2026 METŲ BIUDŽETO ASIGNAVIMAI IŠ VALSTYBĖS BIUDŽETO DOTACIJŲ
A6: Eil. Nr. | B6: Asignavimų valdytojas | C6: Asignavimai, tūkst. Eur
C7: Iš viso | D7: iš jų darbo užmokesčiui
A8: 1 | B8: 2 | C8: 3 | D8: 4
A9: 1 | B9: Palangos miesto savivaldybės administracija - iš viso, iš jų: | C9: =C10+C11+C12+C13+C14+C15+C16+C17+C18+C19+C20+C21 -> 6102.705 | D9: =D10+D11+D12+D13+D14+D15+D16+D17+D18+D19+D20+D21 -> 85.8
A10: 2 | B10: Saugumą užtikrinančių programų vystymas | C10: 130
A11: 3 | B11: Šventosios jūrų uosto šiaurinio bangolaužio (molo) įrengimui | C11: 5619.242
A12: 4 | B12: Neformaliojo vaikų švietimo paslaugų plėtrai | C12: 149.647
A13: 5 | B13: Karjeros specialistų tinklo vystymui | C13: 0
A14: 6 | B14: Socialinės reabilitacijos paslaugų neįgaliesiems teikimui bendruomenėje | C14: 24.7 | D14: 0.7
A15: 7 | B15: Organizuoti būsto ir jo aplinkos pritaikymą neįgaliesiems | C15: 0
A16: 8 | B16: Neįgaliųjų reikalų koordinatorių funkcijai įgyvendinti | C16: 24.4 | D16: 23.2
A17: 9 | B17: Asmeninei pagalbai teikti ir administruoti | C17: 74.8 | D17: 1.4
A18: 10 | B18: Bendruomeninei veiklai stiprinti | C18: 0
A19: 11 | B19: Kompleksinių paslaugų šeimai organizavimui ir teikimui | C19: 13.9
A20: 12 | B20: Socialinių paslaugų srities darbuotojų darbo užmokesčio didinimui | C20: 46.216 | D20: 45.5
A21: 13 | B21: Laikino atokvėpio paslaugos teikimui ir administravimui | C21: 19.8 | D21: 15
A22: 14 | B22: Palangos miesto savivaldybės viešoji biblioteka - iš viso, iš jų: | C22: =C23 -> 22.656
A23: 15 | B23: Savivaldybės viešosios bibliotekos bibliotekų fondo papildymui | C23: 22.656
A24: 16 | B24: Palangos lopšelis-darželis „Sigutė“ - iš viso, iš jų: | C24: =C25 -> 4.8 | D24: =D25 -> 4.7
A25: 17 | B25: Socialinę riziką patiriančių vaikų ikimokykliniam ugdymui | C25: 4.8 | D25: 4.7
A26: 18 | B26: Palangos sanatorinė mokykla - iš viso, iš jų: | C26: =C27+C28 -> 389.9 | D26: =D27+D28 -> 210.6
A27: 19 | B27: Mokyklos specialiųjų ugdymosi poreikių turintiems mokiniams išlaikymui | C27: 258.4 | D27: 158
A28: 20 | B28: Grupėms, vykdančioms ikimokyklinio ir (ar) priešmokyklinio ugdymo programas, specialiųjų ugdymosi poreikių turintiems mokiniams išlaikyti | C28: 131.5 | D28: 52.6
A29: 21 | B29: Palangos ,,Baltijos“ pagrindinė mokykla - iš viso, iš jų: | C29: =C30 -> 71.6 | D29: =D30 -> 69.2
A30: 22 | B30: Klasės specialiųjų ugdymosi poreikių turintiems mokiniams išlaikymui | C30: 71.6 | D30: 69.2
A31: 23 | B31: Palangos sporto centras - iš viso, iš jų: | C31: =C32 -> 46 | D31: =D32 -> 45.343
A32: 24 | B32: Trenerių padidintam darbo užmokesčiui | C32: 46 | D32: 45.343
A33: 25 | B33: Palangos socialinių paslaugų centras - iš viso, iš jų: | C33: =C34 -> 28.609 | D33: =D34 -> 28.2
A34: 26 | B34: Socialinių paslaugų šakos kolektyvinėje sutartyje nustatytiems įsipareigojimams įgyvendinti | C34: 28.609 | D34: 28.2
A35: 27 | B35: IŠ VISO ASIGNAVIMŲ | C35: =C9+C22+C24+C26+C29+C33+C31 -> 6666.27 | D35: =D9+D22+D24+D26+D29+D33+D31 -> 443.843
A37: ____________________________

Sheet 2026 m. ES lėšos
A1: 2026 m. biudžeto projektas
A2: 9 priedas
A4: PALANGOS MIESTO SAVIVALDYBĖS 2026 METŲ BIUDŽETO ASIGNAVIMAI IŠ EUROPOS SĄJUNGOS FINANSINĖS PARAMOS LĖŠŲ
A6: Eil. Nr. | B6: Asignavimų valdytojas | C6: Asignavimai, tūkst. Eur
C7: Iš viso | D7: iš jų darbo užmokesčiui
A8: 1 | B8: 2 | C8: 3 | D8: 4
A9: 1 | B9: Palangos miesto savivaldybės administracija - iš viso, iš jų: | C9: =C10+C11+C12+C13+C14+C15+C16+C17+C18+C20+C21+C22+C19 -> 2105.8 | D9: =D10+D11+D12+D13+D14+D15+D16+D17+D18+D22 -> 0
A10: 2 | B10: Nešiojami kompiuteriai ir švyturiai ("Laptops and lighthouses" - LAL) | C10: 31
A11: 3 | B11: Ekologiškai pažeistų teritorijų valdymui | C11: 466
A12: 4 | B12: Sveikatos centro teikiamų sveikatos priežiūros paslaugų infrastruktūros modernizavimui | C12: 51.6
A13: 5 | B13: Sveikatos centrų modelio diegimui | C13: 65.4
A14: 6 | B14: Sveikatos priežiūros specialistų rengimui ir pritraukimui | C14: 35.3
A15: 7 | B15: Stacionarių ir nestacionarių socialinių paslaugų infrastruktūros vystymui | C15: 803.1
A16: 8 | B16: Atvejo vadybos psichikos ir (ar) intelekto negalią turintiems asmenims užtikrinimui įgyvendinant ES projektą | C16: 37.5
A17: 9 | B17: 2021-2027 metų materialinio nepritekliaus mažinimo programos administravimui | C17: 2
A18: 10 | B18: Palangos "Baltijos" pagrindinės mokyklos vidinio kiemo erdvių sukūrimo įgyvendinimui | C18: 105
A19: 11 | B19: Mokslo paskirties lopšelio-darželio pastato Plytų g. 35, Palangoje, rangos darbams | C19: 450
A20: 12 | B20: Ugdymo priemonės mokykloms | C20: 2
A21: 13 | B21: Tūkstantmečio mokyklų programos įgyvendinimui | C21: 47.1
A22: 14 | B22: ES programos "Erazmus+" projekto "Įtraukties receptas" įgyvendinimui | C22: 9.8
A23: 15 | B23: Palangos miesto botanikos parkas - iš viso, iš jų: | C23: =C24 -> 44.7
A24: 16 | B24: Senjorų ir socialiai pažeidžiamų grupių įtraukimo iniciatyvos Palangos miesto botanikos parke "Takai bendrystei"" įgyvendinimui | C24: 44.7
A25: 17 | B25: Palangos miesto savivaldybės visuomenės sveikatos biuras - iš viso, iš jų: | C25: =C26 -> 19.2
A26: 18 | B26: Sveikatinimo paslaugų plėtros įgyvendinimui formuojant sveiką gyvenseną ir kultūrą | C26: 19.2
A27: 19 | B27: Palangos kultūros centras - iš viso, iš jų: | C27: =C28 -> 69.9
A28: 20 | B28: Kūrybiškos bendrystės Palangoje įgyvendinimui | C28: 69.9
A29: 21 | B29: Palangos jaunimo ir savanorystės centras - iš viso, iš jų: | C29: =C30 -> 44.6
A30: 22 | B30: Emocinę būklę gerinančių, sveiką gyvenseną skatinančių ir socialinę įtrauktį užtikrinančių veiklų organizavimo tikslinėms grupėms Palangoje įgyvendinimui | C30: 44.6
A31: 23 | B31: Palangos švietimo pagalbos tarnyba - iš viso, iš jų: | C31: =C32 -> 50.3
A32: 24 | B32: Socialinę atskirtį patiriančių asmenų emocinės sveikatos stiprinimui | C32: 50.3
A33: 25 | B33: Palangos miesto globos namai - iš viso, iš jų: | C33: =C34 -> 52
A34: 26 | B34: Užtikrinti nuolatinį ir reguliarų užimtumą suaugusiems asmenims su negalia, senyvo amžiaus ir senyvo amžiaus asmenims su negalia, stiprinant jų ryšį su vietos bendruomene per bendras užimtumo veiklas vykdymui | C34: 52
A35: 27 | B35: Palangos socialinių paslaugų centras - iš viso, iš jų: | C35: =C36+C37+C38 -> 102.8 | D35: =D36+D37 -> 28.6
A36: 28 | B36: Budinčio globotojo, globėjų veiklos organizavimui | C36: 10.8
A37: 29 | B37: Socialinių dirbtuvių veiklos užtikrinimui | C37: 41.8 | D37: 28.6
A38: 30 | B38: Skatinti tikslinių grupių socializaciją, įtrauktį, judumą ir aktyvumą, įveiklinant esamą ir kuriamą infrastruktūrą vykdymui | C38: 50.2
A39: 31 | B39: IŠ VISO ASIGNAVIMŲ | C39: =C9+C23+C25+C27+C29+C31+C33+C35 -> 2489.3 | D39: =D9+D35 -> 28.6
A41: _________________________

Sheet 2026 m. BĮ lėšų asignavimai
A1: 2026 m. biudžeto projektas
A2: 10 priedas
A4: PALANGOS MIESTO SAVIVALDYBĖS 2026 METŲ BIUDŽETO ASIGNAVIMAI IŠ BIUDŽETINIŲ ĮSTAIGŲ GAUTŲ PAJAMŲ ĮMOKŲ PROGRAMOMS FINANSUOTI
A6: Eil. Nr. | B6: Asignavimų valdytojas | C6: Asignavimai iš pajamų už prekes ir paslaugas, tūkst. Eur | E6: Asignavimai iš pajamų už ilgalaikio ir trumpalaikio materialiojo turto nuomą, tūkst. Eur
C7: Iš viso | D7: iš jų darbo užmokesčiui | E7: Iš viso | F7: iš jų darbo užmokesčiui
A9: 1 | B9: 2 | C9: 3 | D9: 4 | E9: 5 | F9: 6
A10: 1 | B10: Palangos miesto savivaldybės administracija | C10: 700.4 | E10: 364.9
A11: 2 | B11: Palangos miesto viešosios tvarkos ir rinkliavų tarnyba | C11: 140 | E11: 58
A12: 3 | B12: Palangos miesto botanikos parkas | C12: 45.8 | D12: 28.9 | E12: 44.5
A13: 4 | B13: Palangos investicijų valdymas | C13: 1380 | D13: 998.3 | E13: 70
A14: 5 | B14: Palangos turizmo informacijos centras | C14: 11 | E14: 2.7
A15: 6 | B15: Palangos miesto savivaldybės visuomenės sveikatos biuras | C15: 4.5
A16: 7 | B16: Palangos miesto savivaldybės viešoji biblioteka | C16: 4.3 | E16: 3.3
A17: 8 | B17: Palangos kurorto muziejus | C17: 14 | E17: 1.5
A18: 9 | B18: Palangos kultūros centras | C18: 60 | E18: 30
A19: 10 | B19: Palangos jaunimo ir savanorystės centras | E19: 2
A20: 11 | B20: Palangos lopšelis-darželis „Sigutė“ | C20: 30.3
A21: 12 | B21: Palangos lopšelis-darželis „Ąžuoliukas“ | C21: 47.6 | E21: 0.5
A22: 13 | B22: Palangos lopšelis-darželis „Žilvinas“ | C22: 80.5 | E22: 0.8
A23: 14 | B23: Palangos lopšelis-darželis „Nykštukas“ | C23: 104.8 | E23: 1.5
A24: 15 | B24: Palangos lopšelis-darželis „Gintarėlis“ | C24: 89.4 | E24: 2.5
A25: 16 | B25: Palangos lopšelis-darželis „Pasaka“ | C25: 72 | E25: 0.2
A26: 17 | B26: Palangos pradinė mokykla | C26: 27.5
A27: 18 | B27: Palangos Šventosios pagrindinė mokykla | C27: 69
A28: 19 | B28: Palangos senoji gimnazija | C28: 62.6
A29: 20 | B29: Palangos ,,Baltijos“ pagrindinė mokykla | C29: 84.6
A30: 21 | B30: Palangos Vlado Jurgučio progimnazija | C30: 45.5
A31: 22 | B31: Palangos sporto centras | C31: 110
A32: 23 | B32: Palangos Stasio Vainiūno meno mokykla | C32: 71.3 | D32: 20.2
A33: 24 | B33: Palangos švietimo pagalbos tarnyba | C33: 7.8 | D33: 0.8 | E33: 2.5
A34: 25 | B34: Palangos miesto globos namai | C34: 281.2 | D34: 213
A35: 26 | B35: Palangos socialinių paslaugų centras | C35: 56.4 | D35: 30.4
A36: 27 | B36: IŠ VISO ASIGNAVIMŲ | C36: =SUM(C10:C35) -> 3600.5 | D36: =SUM(D10:D35) -> 1291.6 | E36: =SUM(E10:E35) -> 584.9 | F36: =SUM(F10:F35) -> 0
A38: ______________________________________

Sheet 2026 m. asign. paskolų lėšomis
A1: 2026 m. biudžeto projektas
A2: 11 priedas
A4: PALANGOS MIESTO SAVIVALDYBĖS 2026 METŲ BIUDŽETO ASIGNAVIMAI ILGALAIKIŲ PASKOLŲ LĖŠOMIS
A6: Eil. Nr. | B6: Asignavimų valdytojas | C6: Asignavimai, tūkst. Eur
C7: Iš viso | D7: iš jų darbo užmokesčiui
A8: 1 | B8: 2 | C8: 3 | D8: 4
A9: 1 | B9: Palangos miesto savivaldybės administracija - iš viso, iš jų: | C9: =C10 -> 3000 | D9: =D10 -> 0
A10: 2 | B10: Investicinių projektų įgyvendinimui, miesto infrastruktūros gerinimui ir priežiūrai | C10: 3000
A11: 3 | B11: IŠ VISO ASIGNAVIMŲ | C11: =C10 -> 3000 | D11: =D10 -> 0
A13: ______________________

Sheet 2026 m. biudžeto likutis
A1: 2026 m. biudžeto projektas
A2: 12 priedas
A4: PALANGOS MIESTO SAVIVALDYBĖS 2026 METŲ ASIGNAVIMAI IŠ PRAĖJUSIŲ METŲ BIUDŽETO LĖŠŲ LIKUČIO
A6: Eil. Nr. | B6: Asignavimų valdytojas | C6: Asignavimai, tūkst. Eur
C7: Iš viso | D7: iš jų darbo užmokesčiui
A8: 1 | B8: 2 | C8: 3 | D8: 4
A9: 1 | B9: Palangos miesto savivaldybės administracija - iš viso, iš jų: | C9: =C10 -> 6489.5 | D9: =D10 -> 0
A10: 2 | B10: Ilgalaikių paskolų grąžinimui, investicinių projektų įgyvendinimui, miesto infrastruktūros gerinimui ir priežiūrai | C10: 6489.5
A11: 3 | B11: IŠ VISO ASIGNAVIMŲ | C11: =C9 -> 6489.5 | D11: =D9 -> 0
A13: _________________________

Sheet 2026 m. tiksliniai likučiai
A1: 2026 m. biudžeto projektas
A2: 13 priedas
A4: PALANGOS MIESTO SAVIVALDYBĖS 2026 METŲ ASIGNAVIMAI IŠ TIKSLINĖS PASKIRTIES LĖŠŲ IR BIUDŽETINIŲ ĮSTAIGŲ PAJAMŲ ĮMOKŲ LIKUČIŲ (PRAĖJUSIŲ METŲ NEPANAUDOTOS LĖŠOS)
A6: Eil. Nr. | B6: Asignavimų valdytojas | C6: Asignavimai, tūkst. Eur
C7: Iš viso | D7: iš jų darbo užmokesčiui
A8: 1 | B8: 2 | C8: 3 | D8: 4
A9: 1 | B9: Palangos miesto savivaldybės administracija - iš viso, iš jų: | C9: =C10+C11+C12+C13+C14+C15+C16 -> 1826.803 | D9: =D10+D11+D12+D13+D14+D15+D16 -> 13.2
A10: 2 | B10: iš pajamų įmokų už prekes ir paslaugas | C10: 0.074
A11: 3 | B11: iš pajamų įmokų už turto nuomą | C11: 103.069
A12: 4 | B12: iš Aplinkos apsaugos rėmimo specialiosios programos lėšų likučio | C12: 509.399
A13: 5 | B13: iš lėšų už privatizuotas gyvenamąsias ir kitas patalpas | C13: 91.578
A14: 6 | B14: iš valstybinės žemės pardavimo lėšų | C14: 89.129
A15: 7 | B15: iš Europos Sąjungos finansinės paramos fondų lėšų | C15: 283.51 | D15: 13.2
A16: 8 | B16: iš infrastruktūros plėtros įmokų | C16: 750.044
A17: 9 | B17: Palangos miesto rinkliavų centras - iš viso, iš jų: | C17: =C18+C19 -> 256.906 | D17: =D18+D19 -> 196.8
A18: 10 | B18: iš pajamų įmokų už prekes ir paslaugas | C18: 172.317 | D18: 116.5
A19: 11 | B19: iš pajamų įmokų už turto nuomą | C19: 84.589 | D19: 80.3
A20: 12 | B20: Palangos miesto botanikos parkas - iš viso, iš jų: | C20: =C22+C21+C23 -> 27.276
A21: 13 | B21: iš pajamų įmokų už prekes ir paslaugas | C21: 5.399
A22: 14 | B22: iš pajamų įmokų už turto nuomą | C22: 5.363
A23: 15 | B23: iš Europos Sąjungos finansinės paramos fondų lėšų | C23: 16.514
A24: 16 | B24: Palangos investicijų valdymas - iš viso, iš jų: | C24: =C25 -> 160.916
A25: 17 | B25: iš pajamų įmokų už prekes ir paslaugas | C25: 160.916
A26: 18 | B26: Palangos turizmo informacijos centras - iš viso, iš jų: | C26: =C27+C28 -> 7.291
A27: 19 | B27: iš pajamų įmokų už prekes ir paslaugas | C27: 5.709
A28: 20 | B28: iš pajamų įmokų už turto nuomą | C28: 1.582
A29: 21 | B29: Palangos miesto savivaldybės visuomenės sveikatos biuras - iš viso, iš jų: | C29: =C30 -> 6.062
A30: 22 | B30: iš pajamų įmokų už prekes ir paslaugas | C30: 6.062
A31: 23 | B31: Palangos miesto savivaldybės viešoji biblioteka - iš viso, iš jų: | C31: =C32 -> 0.101
A32: 24 | B32: iš pajamų įmokų už prekes ir paslaugas | C32: 0.101
A33: 25 | B33: Palangos kultūros centras - iš viso, iš jų: | C33: =C35+C34+C36 -> 37.81
A34: 26 | B34: iš pajamų įmokų už prekes ir paslaugas | C34: 15.524
A35: 27 | B35: iš pajamų įmokų už turto nuomą | C35: 1.386
A36: 28 | B36: iš Europos Sąjungos finansinės paramos fondų lėšų | C36: 20.9
A37: 29 | B37: Palangos kurorto muziejus - iš viso, iš jų: | C37: =C38 -> 0.708
A38: 30 | B38: iš pajamų įmokų už prekes ir paslaugas | C38: 0.708
A39: 31 | B39: Palangos lopšelis-darželis „Ąžuoliukas“ - iš viso, iš jų: | C39: =C40 -> 1.737
A40: 32 | B40: iš pajamų įmokų už prekes ir paslaugas | C40: 1.737
A41: 33 | B41: Palangos lopšelis-darželis „Sigutė“ - iš viso, iš jų: | C41: =C42 -> 2.264
A42: 34 | B42: iš pajamų įmokų už prekes ir paslaugas | C42: 2.264
A43: 35 | B43: Palangos lopšelis-darželis „Žilvinas“ - iš viso, iš jų: | C43: =C44 -> 1.135
A44: 36 | B44: iš pajamų įmokų už prekes ir paslaugas | C44: 1.135
A45: 37 | B45: Palangos lopšelis-darželis „Nykštukas“ - iš viso, iš jų: | C45: =C46 -> 5.883
A46: 38 | B46: iš pajamų įmokų už prekes ir paslaugas | C46: 5.883
A47: 39 | B47: Palangos lopšelis-darželis „Gintarėlis“ - iš viso, iš jų: | C47: =C48+C49 -> 11.917
A48: 40 | B48: iš pajamų įmokų už prekes ir paslaugas | C48: 11.246
A49: 41 | B49: iš pajamų įmokų už turto nuomą | C49: 0.671
A50: 42 | B50: Lopšelis-darželis „Pasaka“ - iš viso, iš jų: | C50: =C51 -> 3.293
A51: 43 | B51: iš pajamų įmokų už prekes ir paslaugas | C51: 3.293
A52: 44 | B52: Palangos pradinė mokykla - iš viso, iš jų: | C52: =C53 -> 1.67
A53: 45 | B53: iš pajamų įmokų už prekes ir paslaugas | C53: 1.67
A54: 46 | B54: Palangos Šventosios pagrindinė mokykla - iš viso, iš jų: | C54: =C55 -> 0.812
A55: 47 | B55: iš pajamų įmokų už prekes ir paslaugas | C55: 0.812
A56: 48 | B56: Palangos Vlado Jurgučio progimnazija - iš viso, iš jų: | C56: =C57 -> 4.666
A57: 49 | B57: iš pajamų įmokų už prekes ir paslaugas | C57: 4.666
A58: 50 | B58: Palangos senoji gimnazija - iš viso, iš jų: | C58: =C59 -> 7.238
A59: 51 | B59: iš pajamų įmokų už prekes ir paslaugas | C59: 7.238
A60: 52 | B60: Palangos Baltijos pagrindinė mokykla - iš viso, iš jų: | C60: =C61 -> 18.446
A61: 53 | B61: iš pajamų įmokų už prekes ir paslaugas | C61: 18.446
A62: 54 | B62: Palangos sporto centras | C62: =C63 -> 41.046
A63: 55 | B63: iš pajamų įmokų už prekes ir paslaugas | C63: 41.046
A64: 56 | B64: Palangos Stasio Vainiūno meno mokykla - iš viso, iš jų: | C64: =C65 -> 3.868
A65: 57 | B65: iš pajamų įmokų už prekes ir paslaugas | C65: 3.868
A66: 58 | B66: Palangos švietimo pagalbos tarnyba | C66: =C67+C68+C69 -> 22.938
A67: 59 | B67: iš pajamų įmokų už prekes ir paslaugas | C67: 0.564
A68: 60 | B68: iš pajamų įmokų už turto nuomą | C68: 1.377
A69: 61 | B69: iš Europos Sąjungos finansinės paramos fondų lėšų | C69: 20.997
A70: 62 | B70: Palangos miesto globos namai | C70: =C71+C72 -> 12.475
A71: 63 | B71: iš pajamų įmokų už prekes ir paslaugas | C71: 1.911
A72: 64 | B72: iš Europos Sąjungos finansinės paramos fondų lėšų | C72: 10.564
A73: 65 | B73: Palangos socialinių paslaugų centras - iš viso, iš jų: | C73: =C74+C75 -> 30.529 | D73: =D74+D75 -> 9.5
A74: 66 | B74: iš pajamų įmokų už prekes ir paslaugas | C74: 7.149
A75: 67 | B75: iš Europos Sąjungos finansinės paramos fondų lėšų | C75: 23.38 | D75: 9.5
A76: 68 | B76: IŠ VISO ASIGNAVIMŲ | C76: =C9+C17+C20+C24+C26+C29+C31+C33+C37+C39+C41+C43+C45+C47+C50+C52+C54+C56+C58+C60+C62+C64+C66+C70+C73 -> 2493.79 | D76: =D9+D17+D20+D24+D26+D29+D31+D33+D37+D39+D41+D43+D45+D47+D50+D52+D54+D56+D58+D60+D62+D64+D66+D70+D73 -> 219.5
A78: ______________________
