Workbook

Sheet SUVESTINE
A2: 3 | B2: ='4 priedas'!C54 -> 25636 | C2: ='4 priedas'!D54 -> 11189.4 | E2: =B15 -> #REF! | F2: SB | G2: =E2-B2 -> #REF!
A3: 4 | B3: =' 5 priedas '!#REF! -> #REF! | C3: =' 5 priedas '!#REF! -> #REF! | E3: ='pajamų priedas'!#REF! -> #REF! | F3: D
A4: 5 | B4: =' 6 priedas'!C43 -> 6302.1 | C4: =' 6 priedas'!D43 -> 4754.8 | E4: ='pajamų priedas'!#REF! -> #REF! | F4: MK
A5: 6 | B5: =' 7 priedas'!C33 -> 665.7 | C5: =' 7 priedas'!D33 -> 126.7 | E5: ='pajamų priedas'!#REF!+'pajamų priedas'!#REF! -> #REF! | F5: C
A6: 7 | B6: =' 8 priedas'!#REF! -> #REF! | C6: =' 8 priedas'!#REF! -> #REF! | E6: ='pajamų priedas'!#REF! -> #REF! | F6: E
A7: 8 | B7: =' 9 priedas'!C42 -> 1798.3 | C7: =' 9 priedas'!D42 -> 824.6 | E7: ='pajamų priedas'!#REF! -> #REF! | F7: S
A8: 8 | B8: =' 9 priedas'!E42 -> 423.8 | C8: =' 9 priedas'!F42 -> 0 | E8: ='pajamų priedas'!#REF! -> #REF! | F8: N
A9: 9 | B9: ='10 priedas'!C12 -> 1385 | C9: ='10 priedas'!D12 -> 0 | E9: ='pajamų priedas'!#REF! -> #REF! | F9: I
A10: 10 | B10: ='11 priedas'!C16 -> 1992.9 | C10: ='11 priedas'!D16 -> 0 | F10: M
A11: 11 | B11: ='12 priedas'!C72 -> 1444.122 | C11: ='12 priedas'!D72 -> 15.9 | E11: ='pajamų priedas'!#REF! -> #REF! | F11: L
B12: =SUM(B2:B11) -> #REF! | C12: =SUM(C2:C11) -> #REF! | E12: =SUM(E2:E11) -> #REF! | G12: =E12-B12 -> #REF!
A14: PAJAMOS | B14: ='pajamų priedas'!G47 -> 0
A15: SB | B15: ='pajamų priedas'!#REF! -> #REF!

Sheet 1 priedas
F1: Palangos miesto savivaldybės tarybos
F2: 2022 m. vasario d. sprendimo Nr. T2-
F3: 1 priedas
A5: PALANGOS MIESTO SAVIVALDYBĖS 2022 METŲ BIUDŽETO PAJAMŲ PLANAS
A7: Eil. Nr. | F7: Pajamų pavadinimas | G7: Pajamos, tūkst. Eur
A8: 1 | F8: 2 | G8: 3
A9: 1 | B9: MOKESČIAI | G9: =G10+G12+G16 -> 20399
A10: 2 | C10: Pajamų ir pelno mokesčiai | G10: =ROUND(G11,1) -> 17641
A11: 3 | D11: Gyventojų pajamų mokestis | G11: 17641
A12: 4 | C12: Turto mokesčiai | G12: =SUM(G13:G15) -> 2730
A13: 5 | D13: Žemės mokestis | G13: 900
A14: 6 | D14: Paveldimo turto mokestis | G14: 30
A15: 7 | D15: Nekilnojamojo turto mokestis | G15: 1800
A16: 8 | C16: Prekių ir paslaugų mokesčiai | G16: =SUM(G17) -> 28
A17: 9 | D17: Mokesčiai už aplinkos teršimą | G17: 28
A18: 10 | B18: DOTACIJOS | G18: =G19 -> 5061.1
A19: 11 | C19: Dotacijos iš kitų valdžios sektoriaus subjektų | G19: =G20+G24 -> 5061.1
A20: 12 | D20: Dotacijos iš kitų valdžios sektoriaus subjektų einamiesiems tikslams | G20: =SUM(G21:G23) -> 5061.1
A21: 13 | E21: Speciali tikslinė dotacija savivaldybėms einamiesiems tikslams
A22: 14 | E22: Dotacija savivaldybėms iš Europos Sąjungos, kitos tarptautinės finansinės paramos ir bendrojo finansavimo lėšų einamiesiems tikslams | G22: 5061.1
A23: 15 | E23: Kitos dotacijos einamiesiems tikslams
A24: 16 | D24: Dotacijos iš kitų valdžios sektoriaus subjektų turtui įsigyti | G24: =SUM(G25:G26) -> 0
A25: 17 | E25: Dotacija savivaldybėms iš Europos Sąjungos, kitos tarptautinės finansinės paramos ir bendrojo finansavimo lėšų turtui įsigyti
A26: 18 | E26: Kitos dotacijos turtui įsigyti
A27: 19 | B27: KITOS PAJAMOS | G27: =G28+G32+G38+G39 -> 5932.3
A28: 20 | C28: Turto pajamos | G28: =SUM(G29:G31) -> 765
A29: 21 | D29: Nuomos mokestis už valstybinę žemę | G29: 735
A30: 22 | D30: Palūkanos | G30: 5
A31: 23 | D31: Mokesčiai už valstybinius gamtos išteklius | G31: 25
A32: 24 | C32: Pajamos už prekes ir paslaugas | G32: =SUM(G33:G37) -> 5079.3
A33: 25 | D33: Biudžetinių įstaigų pajamos už prekes ir paslaugas | G33: 1235.3
A34: 26 | D34: Pajamos už ilgalaikio ir trumpalaikio materialiojo turto nuomą | G34: 324
A35: 27 | D35: Įmokos už išlaikymą švietimo, socialinės apsaugos ir kitose įstaigose | G35: 421
A36: 28 | D36: Valstybės rinkliava | G36: 59
A37: 29 | D37: Vietinė rinkliava | G37: 3040
A38: 30 | C38: Pajamos iš baudų, konfiskuoto turto ir kitų netesybų | G38: 85
A39: 31 | C39: Kitos neišvardytos pajamos | G39: 3
A40: 32 | B40: MATERIALIOJO IR NEMATERIALIOJO TURTO REALIZAVIMO PAJAMOS | G40: =SUM(G42:G43) -> 510
A41: 33 | C41: Ilgalaikio materialiojo turto realizavimo pajamos | G41: =SUM(G42:G43) -> 510
A42: 34 | D42: Žemės realizavimo pajamos | G42: 165
...

Sheet pajamų priedas
A1: Projektas
F2: 1 priedas
A4: PALANGOS MIESTO SAVIVALDYBĖS 2022 METŲ BIUDŽETO PAJAMŲ PLANAS
A6: Eil. Nr. | F6: Pajamų pavadinimas | G6: Pajamos, tūkst. Eur
A7: 1 | F7: 2 | G7: 3
A8: 1 | B8: MOKESČIAI | G8: =G9+G11+G15 -> 20799
A9: 2 | C9: Pajamų ir pelno mokesčiai | G9: =ROUND(G10,1) -> 17641
A10: 3 | D10: Gyventojų pajamų mokestis | G10: 17641
A11: 4 | C11: Turto mokesčiai | G11: =SUM(G12:G14) -> 3130
A12: 5 | D12: Žemės mokestis | G12: 1200
A13: 6 | D13: Paveldimo turto mokestis | G13: 30
A14: 7 | D14: Nekilnojamojo turto mokestis | G14: 1900
A15: 8 | C15: Prekių ir paslaugų mokesčiai | G15: =SUM(G16) -> 28
A16: 9 | D16: Mokesčiai už aplinkos teršimą | G16: 28
A17: 10 | B17: DOTACIJOS | G17: =G18 -> 13332.3
A18: 11 | C18: Dotacijos iš kitų valdžios sektoriaus subjektų | G18: =G19+G20+G21 -> 13332.3
A19: 12 | E19: Speciali tikslinė dotacija savivaldybėms | G19: 7817.3
A20: 13 | E20: Dotacija savivaldybėms iš Europos Sąjungos, kitos tarptautinės finansinės paramos ir bendrojo finansavimo lėšų | G20: 4999.9
A21: 14 | E21: Kitos dotacijos | G21: 515.1
A22: 15 | B22: KITOS PAJAMOS | G22: =G23+G27+G33+G34 -> 6549.1
A23: 16 | C23: Turto pajamos | G23: =SUM(G24:G26) -> 880
A24: 17 | D24: Nuomos mokestis už valstybinę žemę | G24: 850
A25: 18 | D25: Palūkanos | G25: 5
A26: 19 | D26: Mokesčiai už valstybinius gamtos išteklius | G26: 25
A27: 20 | C27: Pajamos už prekes ir paslaugas | G27: =SUM(G28:G32) -> 5581.1
A28: 21 | D28: Biudžetinių įstaigų pajamos už prekes ir paslaugas | G28: 1377.3
A29: 22 | D29: Pajamos už ilgalaikio ir trumpalaikio materialiojo turto nuomą | G29: 423.8
A30: 23 | D30: Įmokos už išlaikymą švietimo, socialinės apsaugos ir kitose įstaigose | G30: 421
A31: 24 | D31: Valstybės rinkliava | G31: 59
A32: 25 | D32: Vietinė rinkliava | G32: 3300
A33: 26 | C33: Pajamos iš baudų, konfiskuoto turto ir kitų netesybų | G33: 85
A34: 27 | C34: Kitos neišvardytos pajamos | G34: 3
A35: 28 | B35: MATERIALIOJO IR NEMATERIALIOJO TURTO REALIZAVIMO PAJAMOS | G35: =SUM(G37:G38) -> 510
A36: 29 | C36: Ilgalaikio materialiojo turto realizavimo pajamos | G36: =SUM(G37:G38) -> 510
A37: 30 | D37: Žemės realizavimo pajamos | G37: 100
A38: 31 | D38: Pastatų ir statinių realizavimo pajamos | G38: 410
A39: 32 | B39: BIUDŽETO PAJAMOS, IŠ VISO | G39: =SUM(G8+G17+G22+G35) -> 41190.4
A40: 34 | B40: FINANSINIŲ ĮSIPAREIGOJIMŲ PRISIĖMIMO PAJAMOS (SKOLINIMASIS) | G40: =G41 -> 1385
A41: 35 | D41: Ilgalaikės paskolos (gautos) | G41: 1385
A42: 36 | B42: Metų pradžios lėšų likutis | G42: =G43+G44+G45+G46 -> 3437
...

Sheet 2 priedas
A1: Projektas
A2: 2 priedas
A4: BIUDŽETINIŲ ĮSTAIGŲ PAJAMŲ ĮMOKOS
A5: Į PALANGOS MIESTO SAVIVALDYBĖS 2022 METŲ BIUDŽETĄ
A7: Eil. Nr. | B7: Įstaigų pavadinimas | C7: Iš viso, tūkst. Eur | D7: iš jų
D8: įmokos už išlaikymą švietimo, socialinės apsaugos ir kitose įstaigose | E8: pajamos už prekes ir paslaugas | F8: pajamos už ilgalaikio ir trumpalaikio materialiojo turto nuomą
A12: 1 | B12: 2 | C12: 3 | D12: 4 | E12: 5 | F12: 6
A13: 1 | B13: Palangos miesto savivaldybės administracija | C13: =ROUND(D13+E13+F13,1) -> 489.8 | E13: 150 | F13: 339.8
A14: 2 | B14: Palangos miesto rinkliavų centras | C14: =ROUND(D14+E14+F14,1) -> 72.7 | E14: 70 | F14: 2.7
A15: 3 | B15: Palangos miesto botanikos parkas | C15: =ROUND(D15+E15+F15,1) -> 78.1 | E15: 36.6 | F15: 41.5
A16: 4 | B16: Palangos investicijų valdymas | C16: =ROUND(D16+E16+F16,1) -> 742 | E16: 742
A17: 5 | B17: Palangos turizmo informacijos centras | C17: =ROUND(D17+E17+F17,1) -> 12.9 | E17: 9.5 | F17: 3.4
A18: 6 | B18: Palangos miesto savivaldybės visuomenės sveikatos biuras | C18: =ROUND(D18+E18+F18,1) -> 1 | E18: 1
A19: 7 | B19: Palangos miesto savivaldybės viešoji biblioteka | C19: =ROUND(D19+E19+F19,1) -> 10.3 | E19: 5.8 | F19: 4.5
A20: 8 | B20: Palangos kurorto muziejus | C20: =ROUND(D20+E20+F20,1) -> 7.7 | E20: 7 | F20: 0.7
A21: 9 | B21: Palangos kultūros ir jaunimo centras | C21: =ROUND(D21+E21+F21,1) -> 44 | E21: 20 | F21: 24
A22: 10 | B22: Palangos lopšelis-darželis „Sigutė“ | C22: =ROUND(D22+E22+F22,1) -> 19 | D22: 17 | E22: 2
A23: 11 | B23: Palangos lopšelis-darželis „Ąžuoliukas“ | C23: =ROUND(D23+E23+F23,1) -> 34.5 | D23: 27.5 | E23: 6 | F23: 1
A24: 12 | B24: Palangos lopšelis-darželis „Žilvinas“ | C24: =ROUND(D24+E24+F24,1) -> 43.9 | D24: 35.4 | E24: 6.5 | F24: 2
A25: 13 | B25: Palangos lopšelis-darželis „Nykštukas“ | C25: =ROUND(D25+E25+F25,1) -> 70.3 | D25: 59.9 | E25: 9.5 | F25: 0.9
A26: 14 | B26: Palangos lopšelis-darželis „Gintarėlis“ | C26: =ROUND(D26+E26+F26,1) -> 59.8 | D26: 49.9 | E26: 8.6 | F26: 1.3
A27: 15 | B27: Palangos lopšelis-darželis „Pasaka“ | C27: =ROUND(D27+E27+F27,1) -> 50.8 | D27: 41.6 | E27: 7.2 | F27: 2
A28: 16 | B28: Palangos pradinė mokykla | C28: =ROUND(D28+E28+F28,1) -> 15 | E28: 15
A29: 17 | B29: Palangos Šventosios pagrindinė mokykla | C29: =ROUND(D29+E29+F29,1) -> 53 | E29: 53
A30: 18 | B30: Palangos senoji gimnazija | C30: =ROUND(D30+E30+F30,1) -> 28 | E30: 28
A31: 19 | B31: Palangos ,,Baltijos“ pagrindinė mokykla | C31: =ROUND(D31+E31+F31,1) -> 25 | E31: 25
A32: 20 | B32: Palangos Vlado Jurgučio progimnazija | C32: =ROUND(D32+E32+F32,1) -> 37.2 | E32: 37.2
A33: 21 | B33: Palangos sporto centras | C33: =ROUND(D33+E33+F33,1) -> 80 | E33: 80
A34: 22 | B34: Palangos Stasio Vainiūno meno mokykla | C34: =ROUND(D34+E34+F34,1) -> 41.5 | D34: 37.7 | E34: 3.8
A35: 23 | B35: Palangos švietimo pagalbos tarnyba | C35: =ROUND(D35+E35+F35,1) -> 4 | E35: 4
A36: 24 | B36: Palangos miesto globos namai | C36: =ROUND(D36+E36+F36,1) -> 155 | D36: 152 | E36: 3
A37: 25 | B37: Palangos socialinių paslaugų centras | C37: =ROUND(D37+E37+F37,1) -> 46.6 | E37: 46.6
A38: 26 | B38: IŠ VISO | C38: =SUM(C13:C37) -> 2222.1 | D38: =SUM(D13:D37) -> 421 | E38: =SUM(E13:E37) -> 1377.3 | F38: =SUM(F13:F37) -> 423.8
A40: ____________________________________

Sheet 3 priedas
A1: Projektas
A2: 3 priedas
A4: PALANGOS MIESTO SAVIVALDYBĖS 2022 METŲ BIUDŽETO ASIGNAVIMŲ PAGAL PROGRAMAS PLANAS
A6: Eil. Nr. | B6: Programos Nr. | C6: Programos pavadinimas | D6: Asignavimai, tūkst. Eur
D7: Iš viso | E7: iš jų darbo užmokesčiui
A8: 1 | B8: 2 | C8: 3 | D8: 4 | E8: 5
A9: 1 | B9: 01 | C9: Bendroji programa | D9: 3741.8 | E9: 2928.5
A10: 2 | B10: 02 | C10: Ūkio ir turto programa | D10: 6945.1 | E10: 999.6
A11: 3 | B11: 03 | C11: Šventosios seniūnijos programa | D11: 1146.5 | E11: 21
A12: 4 | B12: 04 | C12: Ekonominės plėtros programa | D12: 2148.7 | E12: 106.2
A13: 5 | B13: 05 | C13: Aplinkos apsaugos programa | D13: 1222.6
A14: 6 | B14: 06 | C14: Sveikatinimo programa | D14: 499.2 | E14: 169.3
A15: 7 | B15: 07 | C15: Kultūros programa | D15: 2238.8 | E15: 1007.2
A16: 8 | B16: 08 | C16: Švietimo programa | D16: 14704.5 | E16: 11042.4
A17: 9 | B17: 09 | C17: Socialinės apsaugos programa | D17: 3444.3 | E17: 1148.8
A18: 10 | B18: 10 | C18: Architektūros ir teritorijų planavimo programa | D18: 5098.9 | E18: 13
A19: 11 | B19: IŠ VISO ASIGNAVIMŲ | D19: =SUM(D9:D18) -> 41190.4 | E19: =SUM(E9:E18) -> 17436
C20: _______________________________________________________________

Sheet 4 priedas
A1: Projektas
A2: 4 priedas
A4: PALANGOS MIESTO SAVIVALDYBĖS 2022 METŲ BIUDŽETO ASIGNAVIMAI SAVARANKIŠKOSIOMS SAVIVALDYBĖS FUNKCIJOMS
A6: Eil. Nr. | B6: Asignavimų valdytojas | C6: Asignavimai, tūkst. Eur
C7: Iš viso | D7: iš jų darbo užmokesčiui
A8: 1 | B8: 2 | C8: 3 | D8: 4
A9: 1 | B9: Bendroji programa Nr. 01 | C9: =SUM(C10:C12) -> 3563.8 | D9: =SUM(D10:D12) -> 2797.4
A10: 2 | B10: Palangos miesto savivaldybės administracija | C10: 3142.8 | D10: 2481
A11: 3 | B11: Palangos miesto savivaldybės kontrolės ir audito tarnyba | C11: 100 | D11: 90.4
A12: 4 | B12: Palangos miesto rinkliavų centras | C12: 321 | D12: 226
A13: 5 | B13: Ūkio ir turto programa Nr. 02 | C13: =SUM(C14:C15) -> 5024.1 | D13: =SUM(D14:D15) -> 353.3
A14: 6 | B14: Palangos miesto savivaldybės administracija | C14: 4636.6
A15: 7 | B15: Palangos miesto botanikos parkas | C15: 387.5 | D15: 353.3
A16: 8 | B16: Šventosios seniūnijos programa Nr. 03 | C16: =SUM(C17) -> 700 | D16: =SUM(D17) -> 0
A17: 9 | B17: Palangos miesto savivaldybės administracija | C17: 700
A18: 11 | B18: Ekonominės plėtros programa Nr. 04 | C18: =SUM(C19:C20) -> 1467.9 | D18: =SUM(D19:D20) -> 106.2
A19: 12 | B19: Palangos miesto savivaldybės administracija | C19: 1318.8
B20: Palangos turizmo informacijos centras | C20: 149.1 | D20: 106.2
A21: 13 | B21: Aplinkos apsaugos programa Nr. 05 | C21: =SUM(C22) -> 144.1
A22: 14 | B22: Palangos miesto savivaldybės administracija | C22: 144.1
A23: 15 | B23: Sveikatinimo programa Nr. 06 | C23: =SUM(C24:C25) -> 328.3 | D23: =SUM(D24:D25) -> 29.6
A24: 16 | B24: Palangos miesto savivaldybės administracija | C24: 289.5
A25: 17 | B25: Palangos miesto savivaldybės visuomenės sveikatos biuras | C25: 38.8 | D25: 29.6
A26: 18 | B26: Kultūros programa Nr. 07 | C26: =SUM(C27:C30) -> 2154.4 | D26: =SUM(D27:D30) -> 1005.2
A27: 19 | B27: Palangos miesto savivaldybės administracija | C27: 828.7
A28: 20 | B28: Palangos miesto savivaldybės viešoji biblioteka | C28: 474.2 | D28: 408.9
A29: 21 | B29: Palangos kultūros ir jaunimo centras | C29: 649.4 | D29: 430.5
A30: 22 | B30: Palangos kurorto muziejus | C30: 202.1 | D30: 165.8
A31: 23 | B31: Švietimo programa Nr. 08 | C31: =SUM(C32:C47) -> 7228.6 | D31: =SUM(D32:D47) -> 6111.6
A32: 24 | B32: Palangos miesto savivaldybės administracija | C32: 246.4
A33: 25 | B33: Palangos lopšelis-darželis „Sigutė“ | C33: 313.9 | D33: 276.8
A34: 26 | B34: Palangos lopšelis-darželis „Ąžuoliukas“ | C34: 452.8 | D34: 393.1
A35: 27 | B35: Palangos lopšelis-darželis „Žilvinas“ | C35: 662.5 | D35: 597.2
A36: 28 | B36: Palangos lopšelis-darželis „Nykštukas“ | C36: 522.1 | D36: 457.8
A37: 29 | B37: Palangos lopšelis-darželis „Gintarėlis“ | C37: 545.5 | D37: 472.2
A38: 30 | B38: Palangos lopšelis-darželis „Pasaka“ | C38: 498.8 | D38: 435.9
A39: 31 | B39: Palangos pradinė mokykla | C39: 269.7 | D39: 238.2
A40: 32 | B40: Palangos Šventosios pagrindinė mokykla | C40: 348 | D40: 281.6
A41: 33 | B41: Palangos senoji gimnazija | C41: 441.1 | D41: 356.4
A42: 34 | B42: Palangos Vlado Jurgučio progimnazija | C42: 494.9 | D42: 413.3
...

Sheet   5 priedas 
A1: Projektas
A2: 5 priedas
A4: PALANGOS MIESTO SAVIVALDYBĖS 2022 METŲ BIUDŽETO ASIGNAVIMAI VALSTYBINĖMS (VALSTYBĖS PERDUOTOMS SAVIVALDYBĖMS) FUNKCIJOMS ATLIKTI
A6: Eil. Nr. | B6: Asignavimų valdytojas | C6: Asignavimai, tūkst. Eur
C7: Iš viso | D7: iš jų darbo užmokesčiui
A8: 1 | B8: 2 | C8: 3 | D8: 4
A9: 1 | B9: Bendroji programa Nr. 01 | C9: =SUM(C10) -> 105.28 | D9: =SUM(D10) -> 98
A10: 2 | B10: Palangos miesto savivaldybės administracija - iš viso, iš jų: | C10: =SUM(C11:C21) -> 105.28 | D10: =SUM(D11:D21) -> 98
A11: 3 | B11: Valstybės garantuojamai pirminei teisinei pagalbai teikti | C11: 3.7 | D11: 3.5
A12: 4 | B12: Savivaldybėms priskirtiems archyviniams dokumentams tvarkyti | C12: 8.6 | D12: 7.2
A13: 5 | B13: Jaunimo teisių apsaugai | C13: 22.5 | D13: 21.9
A14: 6 | B14: Valstybinės kalbos vartojimo ir taisyklingumo kontrolei | C14: 8.3 | D14: 8.2
A15: 7 | B15: Civilinės būklės aktams registruoti | C15: 23.7 | D15: 22
A16: 8 | B16: Gyventojų registrui tvarkyti ir duomenims valstybės registrams teikti | C16: 0.3 | D16: 0.3
A17: 9 | B17: Gyvenamosios vietos deklaravimo duomenų ir gyvenamosios vietos neturinčių asmenų apskaitos duomenims tvarkyti | C17: 2.6 | D17: 2.6
A18: 10 | B18: Duomenims į Suteiktos valstybės pagalbos ir nereikšmingos pagalbos registrą teikti | C18: 0.2 | D18: 0.2
A19: 11 | B19: Dalyvauti rengiant ir vykdant mobilizaciją, demobilizaciją, priimančios šalies paramą | C19: 10.8 | D19: 9.5
A20: 12 | B20: Civilinės saugos organizavimui | C20: 24 | D20: 22.6
A21: 13 | B21: Savivaldybėms priskirtos valstybinės žemės ir kito valstybės turto valdymui, naudojimui ir disponavimui juo patikėjimo teise | C21: 0.58
A22: 14 | B22: Ūkio ir turto programa Nr. 02 | C22: =SUM(C23) -> 41.2
A23: 15 | B23: Palangos miesto savivaldybės administracija - iš viso, iš jų: | C23: =SUM(C24:C25) -> 41.2
A24: 16 | B24: Savivaldybių patvirtintoms užimtumo didinimo programoms įgyvendinti | C24: 36.4
A25: 17 | B25: Būsto nuomos mokesčio daliai kompensuoti | C25: 4.8
A26: 18 | B26: Šventosios seniūnijos programa Nr. 03 | C26: =SUM(C27) -> 92.4 | D26: =SUM(D27) -> 21
A27: 19 | B27: Palangos miesto savivaldybės administracija - iš viso, iš jų: | C27: =SUM(C28:C29) -> 92.4 | D27: =SUM(D28:D29) -> 21
A28: 20 | B28: Valstybei nuosavybės teise priklausančių melioracijos ir hidrotechnikos statinių valdymui ir naudojimui patikėjimo teise | C28: 67
A29: 21 | B29: Žemės ūkio funkcijoms atlikti | C29: 25.4 | D29: 21
A30: 22 | B30: Sveikatinimo programa Nr. 06 | C30: =SUM(C31) -> 170.1 | D30: =SUM(D31) -> 137.5
A31: 23 | B31: Palangos miesto savivaldybės visuomenės sveikatos biuras - iš viso, iš jų: | C31: =C32+C33+C34 -> 170.1 | D31: =D32+D33+D34 -> 137.5
A32: 24 | B32: Stiprinti sveikos gyvensenos įgūdžius bendruomenėse bei vykdyti visuomenės sveikatos stebėseną savivaldybėse | C32: 48.3 | D32: 39.6
A33: 25 | B33: Plėtoti sveiką gyvenseną ir stiprinti mokinių sveikatos įgūdžius ugdymo įstaigose | C33: 88.4 | D33: 72.5
A34: 26 | B34: Plėtoti visuomenės psichikos sveikatos paslaugų prieinamumą bei ankstyvojo savižudybių atpažinimo ir kompleksinės pagalbos teikimo sistemą | C34: 33.4 | D34: 25.4
A35: 27 | B35: Švietimo programa Nr. 08 | C35: =SUM(C36) -> 19.1 | D35: =SUM(D36) -> 18.7
A36: 28 | B36: Palangos miesto savivaldybės administracija - iš viso, iš jų: | C36: =SUM(C37) -> 19.1 | D36: =SUM(D37) -> 18.7
A37: 29 | B37: Koordinuotai teikiamų švietimo pagalbos, socialinių ir sveikatos priežiūros paslaugų vaikams ir jų tėvams (globėjams, rūpintojams) teikimo užtikrinimas | C37: 19.1 | D37: 18.7
A38: 30 | B38: Socialinės apsaugos programa Nr. 09 | C38: =SUM(C44+C39) -> 904.7 | D38: =SUM(D44+D39) -> 139.5
A39: 31 | B39: Palangos miesto savivaldybės administracija - iš viso, iš jų: | C39: =SUM(C40:C43) -> 770.5 | D39: =SUM(D40:D43) -> 9.1
A40: 32 | B40: Socialinėms išmokoms ir kompensacijoms skaičiuoti ir mokėti | C40: 92.3 | D40: 1.9
A41: 33 | B41: Socialinei paramai mokiniams | C41: 196.8 | D41: 6
A42: 34 | B42: Socialinėms paslaugoms | C42: 480.2
...

Sheet  6 priedas
A1: Projektas
A2: 6 priedas
A4: PALANGOS MIESTO SAVIVALDYBĖS 2022 METŲ BIUDŽETO ASIGNAVIMAI IŠ SPECIALIOS TIKSLINĖS VALSTYBĖS DOTACIJOS UGDYMO REIKMĖMS FINANSUOTI
A5: Eil. Nr. | B5: Asignavimų valdytojas | C5: Asignavimai, tūkst. Eur
C6: Iš viso | D6: iš jų darbo užmokesčiui
A7: 1 | B7: 2 | C7: 3 | D7: 4
A8: 1 | B8: Švietimo programa Nr. 08 | C8: 6302.1 | D8: 4754.8
A9: 2 | B9: Palangos lopšelis-darželis „Sigutė“- iš viso, iš jų: | C9: =C10+C11 -> 130.8 | D9: =D10+D11 -> 126.3
A10: 3 | B10: ikimokyklinis ugdymas | C10: 103.7 | D10: 100
A11: 4 | B11: priešmokyklinis ugdymas | C11: 27.1 | D11: 26.3
A12: 5 | B12: Palangos lopšelis-darželis „Ąžuoliukas“ - iš viso, iš jų: | C12: =C13+C14 -> 183.2 | D12: =D13+D14 -> 176.7
A13: 6 | B13: ikimokyklinis ugdymas | C13: 155 | D13: 149.7
A14: 7 | B14: priešmokyklinis ugdymas | C14: 28.2 | D14: 27
A15: 8 | B15: Palangos lopšelis-darželis „Žilvinas“ - iš viso, iš jų: | C15: =C16+C17 -> 274 | D15: =D16+D17 -> 264.2
A16: 9 | B16: ikimokyklinis ugdymas | C16: 211.8 | D16: 204.2
A17: 10 | B17: priešmokyklinis ugdymas | C17: 62.2 | D17: 60
A18: 11 | B18: Palangos lopšelis-darželis „Nykštukas“ - iš viso, iš jų: | C18: =C19+C20 -> 318.1 | D18: =D19+D20 -> 305.9
A19: 12 | B19: ikimokyklinis ugdymas | C19: 237.9 | D19: 228.5
A20: 13 | B20: priešmokyklinis ugdymas | C20: 80.2 | D20: 77.4
A21: 14 | B21: Palangos lopšelis-darželis „Gintarėlis“ - iš viso, iš jų: | C21: =C22+C23 -> 267 | D21: =D22+D23 -> 256.5
A22: 15 | B22: ikimokyklinis ugdymas | C22: 211.1 | D22: 202.9
A23: 16 | B23: priešmokyklinis ugdymas | C23: 55.9 | D23: 53.6
A24: 17 | B24: Palangos lopšelis-darželis „Pasaka“ - iš viso, iš jų: | C24: =C25+C26 -> 236.4 | D24: =D25+D26 -> 227.5
A25: 18 | B25: ikimokyklinis ugdymas | C25: 182.2 | D25: 175.3
A26: 19 | B26: priešmokyklinis ugdymas | C26: 54.2 | D26: 52.2
A27: 20 | B27: Palangos pradinė mokykla - iš viso, iš jų: | C27: 131 | D27: 122.7
A28: 21 | B28: skaitmeninio ugdymo plėtra | C28: 2.8
A29: 22 | B29: Palangos Šventosios pagrindinė mokykla - iš viso, iš jų: | C29: 299.2 | D29: 285.8
A30: 23 | B30: skaitmeninio ugdymo plėtra | C30: 4
A31: 24 | B31: Palangos senoji gimnazija - iš viso, iš jų: | C31: 921.3 | D31: 874.3
A32: 25 | B32: skaitmeninio ugdymo plėtra | C32: 14.8
A33: 26 | B33: Palangos Vlado Jurgučio progimnazija - iš viso, iš jų: | C33: 817.6 | D33: 764.9
A34: 27 | B34: skaitmeninio ugdymo plėtra | C34: 17.9
A35: 28 | B35: Palangos ,,Baltijos“ pagrindinė mokykla - iš viso, iš jų: | C35: 1075.1 | D35: 1015.3
A36: 29 | B36: skaitmeninio ugdymo plėtra | C36: 19.4
A37: 30 | B37: Palangos sanatorinė mokykla - iš viso, iš jų: | C37: =C38+C39+C40 -> 261.9 | D37: =D38+D39+D40 -> 251.3
A38: 31 | B38: bendrasis ugdymas | C38: 246.7 | D38: 239.4
A39: 32 | B39: priešmokyklinis ugdymas | C39: 12.3 | D39: 11.9
A40: 33 | B40: skaitmeninio ugdymo plėtra | C40: 2.9
A41: 34 | B41: Palangos švietimo pagalbos tarnyba | C41: 84.6 | D41: 83.4
...

Sheet  7 priedas
A1: Projektas
A2: 7 priedas
A4: PALANGOS MIESTO SAVIVALDYBĖS 2022 METŲ BIUDŽETO ASIGNAVIMAI IŠ VALSTYBĖS BIUDŽETO DOTACIJŲ
A6: Eil. Nr. | B6: Asignavimų valdytojas | C6: Asignavimai, tūkst. Eur
C7: Iš viso | D7: iš jų darbo užmokesčiui
A8: 1 | B8: 2 | C8: 3 | D8: 4
A9: 4 | B9: Aplinkos apsaugos programa Nr. 05 | C9: =SUM(C10) -> 8.6
A10: 5 | B10: Palangos miesto savivaldybės administracija - iš viso, iš jų: | C10: =SUM(C11) -> 8.6
A11: 6 | B11: Atliekų prevencijos ir tvarkymo programai | C11: 8.6
A12: 7 | B12: Kultūros programa Nr. 07 | C12: =SUM(C15+C13) -> 22.364 | D12: =SUM(D13) -> 2
B13: Palangos miesto savivaldybės administracija - iš viso, iš jų: | C13: 2 | D13: 2
B14: Biudžetinių įstaigų vadovaujančių darbuotojų minimaliems pareiginės algos koeficientams padidinti | C14: 2 | D14: 2
A15: 8 | B15: Palangos miesto savivaldybės viešoji biblioteka - iš viso, iš jų: | C15: =C16 -> 20.364
A16: 9 | B16: Savivaldybės viešosios bibliotekos bibliotekų fondo papildymui | C16: 20.364
A17: 10 | B17: Švietimo programa Nr. 08 | C17: =SUM(C18+C21+C23) -> 453.2 | D17: =SUM(D23+D21+D18) -> 123.4
A18: 11 | B18: Palangos miesto savivaldybės administracija - iš viso, iš jų: | C18: =SUM(C19:C20) -> 302.7
A19: 12 | B19: Neformaliojo vaikų švietimo paslaugų plėtrai | C19: 99.7
A20: 13 | B20: Pedagoginių darbuotojų darbo užmokesčiui didinti | C20: 203
A21: 14 | B21: Palangos sanatorinė mokykla - iš viso, iš jų: | C21: =C22 -> 103.1 | D21: =D22 -> 80.8
A22: 15 | B22: Mokykloms (klasėms), skirtoms mokiniams, turintiems specialiųjų ugdymosi poreikių, išlaikyti | C22: 103.1 | D22: 80.8
A23: 16 | B23: Palangos ,,Baltijos“ pagrindinė mokykla- iš viso, iš jų: | C23: =C28 -> 47.4 | D23: =D28 -> 42.6
A24: 17 | B24: Mokytojų, dirbančių pagal neformaliojo švietimo programas, darbo apmokėjimui | D24: =D25+D26+D27 -> 0
A25: 18 | B25: Stasio Vainiūno meno mokykla
A26: 19 | B26: Sporto centras
A27: 20 | B27: Moksleivių klubas
A28: 21 | B28: Mokykloms (klasėms), skirtoms mokiniams, turintiems specialiųjų ugdymosi poreikių, išlaikyti | C28: 47.4 | D28: 42.6
A29: 22 | B29: Socialinės apsaugos programa Nr. 09 | C29: =SUM(C30) -> 181.5 | D29: 1.3
A30: 23 | B30: Palangos miesto savivaldybės administracija - iš viso, iš jų: | C30: =SUM(C31:C32) -> 181.5 | D30: 1.3
A31: 24 | B31: Būsto šildymo išlaidų kompensacijoms teikti | C31: 111.3
A32: 25 | B32: Asmeninei pagalbai teikti | C32: 70.2 | D32: 1.3
A33: 26 | B33: IŠ VISO ASIGNAVIMŲ | C33: 665.7 | D33: 126.7
A35: ____________________________

Sheet  8 priedas
A1: Projektas
A2: 8 priedas
A4: PALANGOS MIESTO SAVIVALDYBĖS 2022 METŲ BIUDŽETO ASIGNAVIMAI IŠ EUROPOS SĄJUNGOS FINANSINĖS PARAMOS LĖŠŲ
A6: Eil. Nr. | B6: Asignavimų valdytojas | C6: Asignavimai, tūkst. Eur
C7: Iš viso | D7: iš jų darbo užmokesčiui
A8: 1 | B8: 2 | C8: 3 | D8: 4
A9: 1 | B9: Ūkio ir turto programa Nr. 02 | C9: 569,9
A10: 2 | B10: Palangos miesto savivaldybės administracija - iš viso, iš jų: | C10: =SUM(C11:C12) -> 569.9
A11: 3 | B11: Darnaus judumo priemonių diegimui Palangos mieste | C11: 241
A12: 4 | B12: Gatvių apšvietimo plėtros projektų įgyvendinimas | C12: 328.9
A13: 5 | B13: Šventosios seniūnijos programa Nr. 03 | C13: =SUM(C14) -> 354.1
A14: 2 | B14: Palangos miesto savivaldybės administracija - iš viso, iš jų: | C14: =SUM(C15) -> 354.1
A15: 6 | B15: Potvynių rizikos valdymas Palangos mieste | C15: 354.1
A16: 7 | B16: Ekonominės plėtros programa Nr. 04 | C16: =SUM(C17) -> 667.9
A17: 8 | B17: Palangos miesto savivaldybės administracija - iš viso, iš jų: | C17: =SUM(C18:C22) -> 667.9
A18: 9 | B18: Saugios aplinkos paslaugų plėtra, stiprinant gebėjimus, bendravimą ir bendradarbiavimą | C18: 80.3
A19: 3 | B19: Žmonių saugumo didinimas Baltijos jūroje per institucinį bendradarbiavimą | C19: 99.7
A20: 10 | B20: Istorijos ir kultūrinio paveldo išsaugojimas Baltijos jūros regione | C20: 127.4
A21: 11 | B21: Gintaro krantas - tarpregioninio kultūrinio ir pažintinio turizmo plėtra | C21: 170.7
A22: 12 | B22: Paveldo objektų pasiekiamumo dviračiais didinimas | C22: 189.8
A23: 13 | B23: Aplinkos apsaugos programa Nr. 05 | C23: =SUM(C24) -> 1069.9
A24: 4 | B24: Palangos miesto savivaldybės administracija - iš viso, iš jų: | C24: =SUM(C25:C26) -> 1069.9
A25: 14 | B25: Savivaldybės ekologiškai pažeistų teritorijų monitoringo įgyvendinimas | C25: 595.9
A26: 15 | B26: Komunalinių atliekų tvarkymo infrastruktūros plėtrai | C26: 474
A27: 16 | B27: Švietimo programa Nr. 08 | C27: =SUM(C28) -> 139.5
A28: 17 | B28: Palangos miesto savivaldybės administracija - iš viso, iš jų: | C28: =SUM(C29) -> 139.5
A29: 5 | B29: Mokinių ugdymosi pasiekimų gerinimas diegiant "Kokybės krepšelį" | C29: 139.5
A30: 18 | B30: Socialinės apsaugos programa Nr. 09 | C30: =SUM(C31+C34) -> 163.8 | D30: =SUM(D31+D34) -> 4.4
A31: 19 | B31: Palangos miesto savivaldybės administracija - iš viso, iš jų: | C31: =SUM(C32:C33) -> 149.4 | D31: =SUM(D32:D33) -> 4.4
A32: 20 | B32: Gerovės konsultantų modelio įdiegimas Palangos miesto savivaldybėje | C32: 96.6
A33: 21 | B33: Kompleksinių paslaugų šeimai organizavimas ir teikimas | C33: 52.8 | D33: 4.4
A34: 6 | B34: Palangos socialinių paslaugų centras - iš viso, iš jų: | C34: =C36+C35 -> 14.4
A35: 22 | B35: Integralios pagalbos (socialinės globos ir slaugos) teikimo Palangos savivaldybėje įgyvendinimas | C35: 3
A36: 23 | B36: Budinčio globotojo, globėjų veiklos organizavimas | C36: 11.4
A37: 24 | B37: Architektūros ir teritorijų planavimo programa Nr. 10 | C37: =SUM(C38) -> 2034.8
A38: 25 | B38: Palangos miesto savivaldybės administracija - iš viso, iš jų: | C38: =SUM(C39:C42) -> 2034.8
A39: 7 | B39: Darnaus judumo priemonių diegimui Palangos mieste | C39: 115.2
A40: 26 | B40: Sporto, pramogų objektų ir poilsio erdvių vystymas | C40: 62.6
A41: 27 | B41: Žvejybos infrastruktūros plėta | C41: 157
A42: 28 | B42: Šventosios jūrų uosto plėtra | C42: 1700
...

Sheet  9 priedas
A1: Projektas
A2: 9 priedas
A4: PALANGOS MIESTO SAVIVALDYBĖS 2022 METŲ BIUDŽETO ASIGNAVIMAI IŠ BIUDŽETINIŲ ĮSTAIGŲ GAUTŲ PAJAMŲ ĮMOKŲ PROGRAMOMS FINANSUOTI
A6: Eil. Nr. | B6: Asignavimų valdytojas | C6: Asignavimai iš pajamų už prekes ir paslaugas, tūkst. Eur | E6: Asignavimai iš pajamų už ilgalaikio ir trumpalaikio materialiojo turto nuomą, tūkst. Eur
C7: Iš viso | D7: iš jų darbo užmokesčiui | E7: Iš viso | F7: iš jų darbo užmokesčiui
A9: 1 | B9: 2 | C9: 3 | D9: 4 | E9: 5 | F9: 6
A10: 2 | B10: Bendroji programa Nr. 01 | C10: =SUM(C11) -> 70 | D10: =SUM(D11) -> 33.1 | E10: =SUM(E11) -> 2.7
A11: 3 | B11: Palangos miesto rinkliavų centras | C11: 70 | D11: 33.1 | E11: 2.7
A12: 4 | B12: Ūkio ir turto programa Nr. 02 | C12: =SUM(C13:C15) -> 928.6 | D12: =SUM(D13:D15) -> 646.3 | E12: =SUM(E13:E15) -> 381.3
A13: 5 | B13: Palangos miesto savivaldybės administracija | C13: 150 | E13: 339.8
A14: 6 | B14: Palangos miesto botanikos parkas | C14: 36.6 | D14: 19.9 | E14: 41.5
A15: 7 | B15: Palangos investicijų valdymas | C15: 742 | D15: 626.4
A16: 8 | B16: Ekonominės plėtros programa Nr. 04 | C16: =SUM(C17) -> 9.5 | E16: =SUM(E17) -> 3.4
A17: 9 | B17: Palangos turizmo informacijos centras | C17: 9.5 | E17: 3.4
A18: 10 | B18: Sveikatinimo programa Nr. 06 | C18: =SUM(C19) -> 1
A19: 11 | B19: Palangos miesto savivaldybės visuomenės sveikatos biuras | C19: 1
A20: 12 | B20: Kultūros programa Nr. 07 | C20: =SUM(C21:C23) -> 32.8 | E20: =SUM(E21:E23) -> 29.2
A21: 13 | B21: Palangos miesto savivaldybės viešoji biblioteka | C21: 5.8 | E21: 4.5
A22: 14 | B22: Palangos kurorto muziejus | C22: 7 | E22: 0.7
A23: 15 | B23: Palangos kultūros ir jaunimo centras | C23: 20 | E23: 24
A24: 16 | B24: Švietimo programa Nr. 08 | C24: =SUM(C25:C38) -> 554.8 | D24: =SUM(D25:D38) -> 33.9 | E24: =SUM(E25:E38) -> 7.2
A25: 17 | B25: Palangos lopšelis-darželis „Sigutė“ | C25: 19
A26: 18 | B26: Palangos lopšelis-darželis „Ąžuoliukas“ | C26: 33.5 | E26: 1
A27: 19 | B27: Palangos lopšelis-darželis „Žilvinas“ | C27: 41.9 | E27: 2
A28: 20 | B28: Palangos lopšelis-darželis „Nykštukas“ | C28: 69.4 | E28: 0.9
A29: 21 | B29: Palangos lopšelis-darželis „Gintarėlis“ | C29: 58.5 | E29: 1.3
A30: 22 | B30: Palangos lopšelis-darželis „Pasaka“ | C30: 48.8 | E30: 2
A31: 23 | B31: Palangos pradinė mokykla | C31: 15
A32: 24 | B32: Palangos Šventosios pagrindinė mokykla | C32: 53
A33: 25 | B33: Palangos senoji gimnazija | C33: 28
A34: 26 | B34: Palangos ,,Baltijos“ pagrindinė mokykla | C34: 25
A35: 27 | B35: Palangos Vlado Jurgučio progimnazija | C35: 37.2
A36: 28 | B36: Palangos sporto centras | C36: 80
A37: 29 | B37: Palangos Stasio Vainiūno meno mokykla | C37: 41.5 | D37: 33.1
A38: 30 | B38: Palangos švietimo pagalbos tarnyba | C38: 4 | D38: 0.8
A39: 31 | B39: Socialinės apsaugos programa Nr. 09 | C39: =SUM(C40:C41) -> 201.6 | D39: =SUM(D40:D41) -> 111.3
A40: 32 | B40: Palangos miesto globos namai | C40: 155 | D40: 84.5
A41: 33 | B41: Palangos socialinių paslaugų centras | C41: 46.6 | D41: 26.8
A42: 34 | B42: IŠ VISO ASIGNAVIMŲ | C42: =SUM(C39+C24+C20+C18+C16+C12+C10) -> 1798.3 | D42: =SUM(D39+D24+D12+D10) -> 824.6 | E42: =SUM(E24+E20+E16+E12+E10) -> 423.8 | F42: =SUM(F13:F41) -> 0
A44: ______________________________________

Sheet 10 priedas
A1: Projektas
A2: 10 priedas
A4: PALANGOS MIESTO SAVIVALDYBĖS 2022 METŲ BIUDŽETO ASIGNAVIMAI ILGALAIKIŲ PASKOLŲ LĖŠOMIS
A6: Eil. Nr. | B6: Asignavimų valdytojas | C6: Asignavimai, tūkst. Eur
C7: Iš viso | D7: iš jų darbo užmokesčiui
A8: 1 | B8: 2 | C8: 3 | D8: 4
A9: 1 | B9: Architektūros ir teritorijų planavimo programa Nr. 10 | C9: =C10 -> 1385
A10: 2 | B10: Palangos miesto savivaldybės administracija - iš viso, iš jų: | C10: =C11 -> 1385
A11: 3 | B11: Šventosios jūrų uosto plėtra, pastato Vytauto g. 110 rekonstrukcija, pastato Smilčių g. 16 rekonstrukcija | C11: 1385
A12: 4 | B12: IŠ VISO ASIGNAVIMŲ | C12: =C10 -> 1385
A14: ______________________

Sheet 11 priedas
A1: Projektas
A2: 11 priedas
A4: PALANGOS MIESTO SAVIVALDYBĖS 2022 METŲ ASIGNAVIMAI IŠ PRAĖJUSIŲ METŲ BIUDŽETO LĖŠŲ LIKUČIO
A6: Eil. Nr. | B6: Asignavimų valdytojas | C6: Asignavimai, tūkst. Eur
C7: Iš viso | D7: iš jų darbo užmokesčiui
A8: 1 | B8: 2 | C8: 3 | D8: 4
A9: 1 | B9: Bendroji programa Nr. 01 | C9: 945
A10: 2 | B10: Palangos miesto savivaldybės administracija - iš viso, iš jų: | C10: 945
A11: 3 | B11: Ilgalaikių paskolų grąžinimui | C11: 945
A12: 4 | B12: Architektūros ir teritorijų planavimo programa Nr. 10 | C12: =SUM(C13) -> 1047.9
A13: 5 | B13: Palangos miesto savivaldybės administracija - iš viso, iš jų: | C13: =SUM(C14:C15) -> 1047.9
A14: 6 | B14: Švietimo įstaigų materialinės bazės turtinimas, ugdymo aplinkų kūrimas, atnaujinimas bei priežiūra (pastato Smilčių g. 16 rekonstrukcija) | C14: 400
A15: 7 | B15: Sporto, pramogų objektų ir poilsio erdvių vystymas (pastato Vytauto g. 110 rekonstrukcija) | C15: 647.9
A16: 8 | B16: IŠ VISO ASIGNAVIMŲ | C16: =SUM(C9+C12) -> 1992.9
A18: _________________________

Sheet 12 priedas
A1: Projektas
A2: 12 priedas
A4: PALANGOS MIESTO SAVIVALDYBĖS 2022 METŲ ASIGNAVIMAI IŠ TIKSLINĖS PASKIRTIES LĖŠŲ IR BIUDŽETINIŲ ĮSTAIGŲ PAJAMŲ ĮMOKŲ LIKUČIŲ (PRAĖJUSIŲ METŲ NEPANAUDOTOS LĖŠOS)
A6: Eil. Nr. | B6: Asignavimų valdytojas | C6: Asignavimai, tūkst. Eur
C7: Iš viso | D7: iš jų darbo užmokesčiui
A8: 1 | B8: 2 | C8: 3 | D8: 4
B9: Bendroji programa Nr. 01 | C9: =SUM(C10+C12) -> 87.335 | D9: 15
B10: Palangos miesto savivaldybės administracija - iš viso, iš jų: | C10: 0.266
B11: iš pajamų įmokų už prekes ir paslaugas | C11: 0.266
B12: Palangos miesto rinkliavų centras - iš viso, iš jų: | C12: =C13+C14 -> 87.069 | D12: =D13+D14 -> 15
B13: iš pajamų įmokų už prekes ir paslaugas | C13: 84.931 | D13: 15
B14: iš pajamų įmokų už turto nuomą | C14: 2.138
B15: Ūkio ir turto programa Nr. 02 | C15: =SUM(C16+C20+C23) -> 183.687 | D15: 0.9
A16: 1 | B16: Palangos miesto savivaldybės administracija - iš viso, iš jų: | C16: =SUM(C17:C19) -> 155.513 | D16: 0.9
A17: 3 | B17: iš pajamų įmokų už turto nuomą | C17: 29.126
B18: iš lėšų už privatizuotas gyvenamąsias ir kitas patalpas | C18: 89.811
B19: iš vietinės rinkliavos už komunalinių atliekų surinkimą ir tvarkymą | C19: 36.576
B20: Palangos miesto botanikos parkas - iš viso, iš jų: | C20: =C21+C22 -> 3.651
B21: iš pajamų įmokų už prekes ir paslaugas | C21: 0.669
B22: iš pajamų įmokų už turto nuomą | C22: 2.982
B23: Palangos investicijų valdymas - iš viso, iš jų: | C23: =C24 -> 24.523 | D23: =D24 -> 0.9
B24: iš pajamų įmokų už prekes ir paslaugas | C24: 24.523 | D24: 0.9
B25: Ekonominės plėtros programa Nr. 04 | C25: 5.898
B26: Palangos turizmo informacijos centras - iš viso, iš jų: | C26: =C27+C28 -> 5.898
B27: iš pajamų įmokų už prekes ir paslaugas | C27: 5.565
B28: iš pajamų įmokų už turto nuomą | C28: 0.333
B29: Aplinkos apsaugos programa Nr. 05 | C29: 627.729
B30: Palangos miesto savivaldybės administracija - iš viso, iš jų: | C30: =SUM(C31:C33) -> 627.729
A31: 4 | B31: iš Aplinkos apsaugos rėmimo specialiosios programos lėšų likučio | C31: 199.443
A32: 5 | B32: iš Europos Sąjungos finansinės paramos fondų lėšų | C32: 424.801
A33: 6 | B33: iš valstybinės biudžeto lėšų | C33: 3.485
B34: Sveikatinimo programa Nr. 06 | C34: 0.4
B35: Palangos miesto savivaldybės visuomenės sveikatos biuras - iš viso, iš jų: | C35: =C36 -> 0.4
B36: iš pajamų įmokų už prekes ir paslaugas | C36: 0.4
B37: Kultūros programa Nr. 07 | C37: =SUM(C38+C41) -> 15.741
B38: Palangos kultūros ir jaunimo centras - iš viso, iš jų: | C38: =C39+C40 -> 15.359
B39: iš pajamų įmokų už prekes ir paslaugas | C39: 14.959
B40: iš pajamų įmokų už turto nuomą | C40: 0.4
B41: Palangos kurorto muziejus - iš viso, iš jų: | C41: =C42 -> 0.382
B42: iš pajamų įmokų už prekes ir paslaugas | C42: 0.382
...
