Workbook

Sheet SUVESTINE
B1: viso | C1: DU | E1: PAJAMOS
A2: 3 | B2: ='3 priedas'!C35 -> 29045 | C2: ='3 priedas'!D35 -> 13115.5 | E2: ='pajamų priedas'!G10+'pajamų priedas'!G12+'pajamų priedas'!G13+'pajamų priedas'!G14+'pajamų priedas'!G16+'pajamų priedas'!G24+'pajamų priedas'!G25+'pajamų priedas'!G26+'pajamų priedas'!G31+'pajamų priedas'!G32+'pajamų priedas'!G33+'pajamų priedas'!G34+'pajamų priedas'!G37+'pajamų priedas'!G38 -> 29045 | F2: SB | G2: =E2-B2 -> 0
A3: 4 | B3: =' 4 priedas '!C38 -> 1482.098 | C3: =' 4 priedas '!D38 -> 486.217 | E3: =B3 -> 1482.098 | F3: D
A4: 5 | B4: ='5 priedas'!C42 -> 7522.6 | C4: ='5 priedas'!D42 -> 5773.5 | E4: =B4 -> 7522.6 | F4: MK | G4: tiks | I4: kita dotac
A5: 6 | B5: =' 6 priedas'!C24 -> 712.736 | C5: =' 6 priedas'!D24 -> 171.905 | E5: =B5 -> 712.736 | F5: C/U | G5: 266.3 | H5: C | I5: =E5-G5 -> 446.436 | J5: U | K5: =G5+I5 -> 712.736
A6: 7 | B6: =' 7 priedas'!C27 -> 5164 | C6: =' 7 priedas'!D27 -> 2.7 | E6: ='pajamų priedas'!G20 -> 5164 | F6: E
A7: 8 | B7: =' 8 priedas'!C35 -> 2702.7 | C7: =' 8 priedas'!D35 -> 938.8 | E7: ='pajamų priedas'!G28+'pajamų priedas'!G30 -> 2702.7 | F7: S
A8: 8 | B8: =' 8 priedas'!E35 -> 365.6 | C8: =' 8 priedas'!F35 -> 0 | E8: ='pajamų priedas'!G29 -> 365.6 | F8: N
A9: 9 | B9: ='9 priedas'!C15 -> 2066.6 | C9: ='9 priedas'!D15 -> 0 | E9: ='pajamų priedas'!G41 -> 2066.6 | F9: I
A10: 10 | B10: ='10 priedas'!C14 -> 3120.3 | C10: ='10 priedas'!D14 -> 0 | E10: ='pajamų priedas'!G43 -> 3120.3 | F10: M
A11: 11 | B11: ='11 priedas'!C65 -> 3011.11 | C11: ='11 priedas'!D65 -> 20.42 | E11: ='pajamų priedas'!G44+'pajamų priedas'!G45+'pajamų priedas'!G48+'pajamų priedas'!G46+'pajamų priedas'!G47 -> 3011.1 | F11: L
B12: =SUM(B2:B11) -> 55192.744 | C12: =SUM(C2:C11) -> 20509.042 | E12: =SUM(E2:E11) -> 55192.734 | G12: =E12-B12 -> -0.01
B13: =B12+E2 -> 84237.744 | D13: TIKS | E13: =E3+E4+G5 -> 9270.998
A14: PAJAMOS | B14: ='pajamų priedas'!G49 -> 0 | D14: KITA DOT | E14: =I5 -> 446.436
A15: SB | B15: ='pajamų priedas'!G39 -> 46994.7 | E15: =SUM(E13:E14) -> 9717.434
A16: ASIGNAVIMAI
B17: =B2+B3+B4+B5+B6+B7+B8 -> 46994.734 | C17: =C2+C3+C4+C5+C6+C7+C8 -> 20488.622
B20: =B17+G2 -> 46994.734

Sheet 1 priedas
F1: Palangos miesto savivaldybės tarybos
F2: 2022 m. vasario d. sprendimo Nr. T2-
F3: 1 priedas
A5: PALANGOS MIESTO SAVIVALDYBĖS 2022 METŲ BIUDŽETO PAJAMŲ PLANAS
A7: Eil. Nr. | F7: Pajamų pavadinimas | G7: Pajamos, tūkst. Eur
A8: 1 | F8: 2 | G8: 3
A9: 1 | B9: MOKESČIAI | G9: =G10+G12+G16 -> 20399
A10: 2 | C10: Pajamų ir pelno mokesčiai | G10: =ROUND(G11,1) -> 17641
A11: 3 | D11: Gyventojų pajamų mokestis | G11: 17641
A12: 4 | C12: Turto mokesčiai | G12: =SUM(G13:G15) -> 2730
A13: 5 | D13: Žemės mokestis | G13: 900
A14: 6 | D14: Paveldimo turto mokestis | G14: 30
A15: 7 | D15: Nekilnojamojo turto mokestis | G15: 1800
A16: 8 | C16: Prekių ir paslaugų mokesčiai | G16: =SUM(G17) -> 28
A17: 9 | D17: Mokesčiai už aplinkos teršimą | G17: 28
A18: 10 | B18: DOTACIJOS | G18: =G19 -> 5061.1
A19: 11 | C19: Dotacijos iš kitų valdžios sektoriaus subjektų | G19: =G20+G24 -> 5061.1
A20: 12 | D20: Dotacijos iš kitų valdžios sektoriaus subjektų einamiesiems tikslams | G20: =SUM(G21:G23) -> 5061.1
A21: 13 | E21: Speciali tikslinė dotacija savivaldybėms einamiesiems tikslams
A22: 14 | E22: Dotacija savivaldybėms iš Europos Sąjungos, kitos tarptautinės finansinės paramos ir bendrojo finansavimo lėšų einamiesiems tikslams | G22: 5061.1
A23: 15 | E23: Kitos dotacijos einamiesiems tikslams
A24: 16 | D24: Dotacijos iš kitų valdžios sektoriaus subjektų turtui įsigyti | G24: =SUM(G25:G26) -> 0
A25: 17 | E25: Dotacija savivaldybėms iš Europos Sąjungos, kitos tarptautinės finansinės paramos ir bendrojo finansavimo lėšų turtui įsigyti
A26: 18 | E26: Kitos dotacijos turtui įsigyti
A27: 19 | B27: KITOS PAJAMOS | G27: =G28+G32+G38+G39 -> 5932.3
A28: 20 | C28: Turto pajamos | G28: =SUM(G29:G31) -> 765
A29: 21 | D29: Nuomos mokestis už valstybinę žemę | G29: 735
A30: 22 | D30: Palūkanos | G30: 5
A31: 23 | D31: Mokesčiai už valstybinius gamtos išteklius | G31: 25
A32: 24 | C32: Pajamos už prekes ir paslaugas | G32: =SUM(G33:G37) -> 5079.3
A33: 25 | D33: Biudžetinių įstaigų pajamos už prekes ir paslaugas | G33: 1235.3
A34: 26 | D34: Pajamos už ilgalaikio ir trumpalaikio materialiojo turto nuomą | G34: 324
A35: 27 | D35: Įmokos už išlaikymą švietimo, socialinės apsaugos ir kitose įstaigose | G35: 421
A36: 28 | D36: Valstybės rinkliava | G36: 59
A37: 29 | D37: Vietinė rinkliava | G37: 3040
A38: 30 | C38: Pajamos iš baudų, konfiskuoto turto ir kitų netesybų | G38: 85
A39: 31 | C39: Kitos neišvardytos pajamos | G39: 3
A40: 32 | B40: MATERIALIOJO IR NEMATERIALIOJO TURTO REALIZAVIMO PAJAMOS | G40: =SUM(G42:G43) -> 510
A41: 33 | C41: Ilgalaikio materialiojo turto realizavimo pajamos | G41: =SUM(G42:G43) -> 510
A42: 34 | D42: Žemės realizavimo pajamos | G42: 165
...

Sheet pajamų priedas
F1: Projektas
F2: 1 priedas
A4: PALANGOS MIESTO SAVIVALDYBĖS 2023 METŲ BIUDŽETO PAJAMŲ PLANAS
A6: Eil. Nr. | F6: Pajamų pavadinimas | G6: Pajamos, tūkst. Eur
A7: 1 | F7: 2 | G7: 3
A8: 1 | B8: MOKESČIAI | G8: =G9+G11+G15 -> 24901
A9: 2 | C9: Pajamų ir pelno mokesčiai | G9: =ROUND(G10,1) -> 21643
A10: 3 | D10: Gyventojų pajamų mokestis | G10: 21643
A11: 4 | C11: Turto mokesčiai | G11: =SUM(G12:G14) -> 3230
A12: 5 | D12: Žemės mokestis | G12: 1300
A13: 6 | D13: Paveldimo turto mokestis | G13: 30
A14: 7 | D14: Nekilnojamojo turto mokestis | G14: 1900
A15: 8 | C15: Prekių ir paslaugų mokesčiai | G15: =SUM(G16) -> 28
A16: 9 | D16: Mokesčiai už aplinkos teršimą | G16: 28
A17: 10 | B17: DOTACIJOS | G17: =G18 -> 14881.4
A18: 11 | C18: Dotacijos iš kitų valdžios sektoriaus subjektų | G18: =G19+G20+G21 -> 14881.4
A19: 12 | E19: Speciali tikslinė dotacija savivaldybėms | G19: 9271
A20: 13 | E20: Dotacija savivaldybėms iš Europos Sąjungos, kitos tarptautinės finansinės paramos ir bendrojo finansavimo lėšų | G20: 5164
A21: 14 | E21: Kitos dotacijos | G21: 446.4
A22: 15 | B22: KITOS PAJAMOS | G22: =G23+G27+G33+G34 -> 7012.3
A23: 16 | C23: Turto pajamos | G23: =SUM(G24:G26) -> 785
A24: 17 | D24: Nuomos mokestis už valstybinę žemę | G24: 750
A25: 18 | D25: Palūkanos | G25: 5
A26: 19 | D26: Mokesčiai už valstybinius gamtos išteklius | G26: 30
A27: 20 | C27: Pajamos už prekes ir paslaugas | G27: =SUM(G28:G32) -> 6134.3
A28: 21 | D28: Biudžetinių įstaigų pajamos už prekes ir paslaugas | G28: 2176.9
A29: 22 | D29: Pajamos už ilgalaikio ir trumpalaikio materialiojo turto nuomą | G29: 365.6
A30: 23 | D30: Įmokos už išlaikymą švietimo, socialinės apsaugos ir kitose įstaigose | G30: 525.8
A31: 24 | D31: Valstybės rinkliava | G31: 66
A32: 25 | D32: Vietinė rinkliava | G32: 3000
A33: 26 | C33: Pajamos iš baudų, konfiskuoto turto ir kitų netesybų | G33: 90
A34: 27 | C34: Kitos neišvardytos pajamos | G34: 3
A35: 28 | B35: MATERIALIOJO IR NEMATERIALIOJO TURTO REALIZAVIMO PAJAMOS | G35: =SUM(G37:G38) -> 200
A36: 29 | C36: Ilgalaikio materialiojo turto realizavimo pajamos | G36: =SUM(G37:G38) -> 200
A37: 30 | D37: Žemės realizavimo pajamos | G37: 0
A38: 31 | D38: Pastatų ir statinių realizavimo pajamos | G38: 200
A39: 32 | B39: BIUDŽETO PAJAMOS, IŠ VISO | G39: =SUM(G8+G17+G22+G35) -> 46994.7
A40: 33 | B40: FINANSINIŲ ĮSIPAREIGOJIMŲ PRISIĖMIMO PAJAMOS (SKOLINIMASIS) | G40: =G41 -> 2066.6
A41: 34 | D41: Ilgalaikės paskolos (gautos) | G41: 2066.6
A42: 35 | B42: Metų pradžios lėšų likutis | G42: =G43+G44+G45+G48+G46+G47 -> 6131.4
...

Sheet 2 priedas
A1: Projektas
A2: 2 priedas
A4: BIUDŽETINIŲ ĮSTAIGŲ PAJAMŲ ĮMOKOS
A5: Į PALANGOS MIESTO SAVIVALDYBĖS 2023 METŲ BIUDŽETĄ
A7: Eil. Nr. | B7: Įstaigų pavadinimas | C7: Iš viso, tūkst. Eur | D7: iš jų
D8: įmokos už išlaikymą švietimo, socialinės apsaugos ir kitose įstaigose | E8: pajamos už prekes ir paslaugas | F8: pajamos už ilgalaikio ir trumpalaikio materialiojo turto nuomą
A12: 1 | B12: 2 | C12: 3 | D12: 4 | E12: 5 | F12: 6
A13: 1 | B13: Palangos miesto savivaldybės administracija | C13: =ROUND(D13+E13+F13,1) -> 370.3 | E13: 150 | F13: 220.3
A14: 2 | B14: Palangos miesto rinkliavų centras | C14: =ROUND(D14+E14+F14,1) -> 94.7 | E14: 92 | F14: 2.7
A15: 3 | B15: Palangos miesto botanikos parkas | C15: =ROUND(D15+E15+F15,1) -> 94 | E15: 51 | F15: 43
A16: 4 | B16: Palangos investicijų valdymas | C16: =ROUND(D16+E16+F16,1) -> 1434 | E16: 1379 | F16: 55
A17: 5 | B17: Palangos turizmo informacijos centras | C17: =ROUND(D17+E17+F17,1) -> 12.2 | E17: 9.5 | F17: 2.7
A18: 6 | B18: Palangos miesto savivaldybės visuomenės sveikatos biuras | C18: =ROUND(D18+E18+F18,1) -> 3 | E18: 3
A19: 7 | B19: Palangos miesto savivaldybės viešoji biblioteka | C19: =ROUND(D19+E19+F19,1) -> 10.9 | E19: 5.9 | F19: 5
A20: 8 | B20: Palangos kurorto muziejus | C20: =ROUND(D20+E20+F20,1) -> 9.5 | E20: 8.5 | F20: 1
A21: 9 | B21: Palangos kultūros ir jaunimo centras | C21: =ROUND(D21+E21+F21,1) -> 74 | E21: 50 | F21: 24
A22: 10 | B22: Palangos lopšelis-darželis „Sigutė“ | C22: =ROUND(D22+E22+F22,1) -> 27.3 | D22: 21.1 | E22: 6.2
A23: 11 | B23: Palangos lopšelis-darželis „Ąžuoliukas“ | C23: =ROUND(D23+E23+F23,1) -> 45.5 | D23: 32.2 | E23: 11.5 | F23: 1.8
A24: 12 | B24: Palangos lopšelis-darželis „Žilvinas“ | C24: =ROUND(D24+E24+F24,1) -> 66.9 | D24: 50 | E24: 13.9 | F24: 3
A25: 13 | B25: Palangos lopšelis-darželis „Nykštukas“ | C25: =ROUND(D25+E25+F25,1) -> 98.1 | D25: 77.6 | E25: 19.2 | F25: 1.3
A26: 14 | B26: Palangos lopšelis-darželis „Gintarėlis“ | C26: =ROUND(D26+E26+F26,1) -> 82 | D26: 62.6 | E26: 17.7 | F26: 1.7
A27: 15 | B27: Palangos lopšelis-darželis „Pasaka“ | C27: =ROUND(D27+E27+F27,1) -> 71 | D27: 51.1 | E27: 15.8 | F27: 4.1
A28: 16 | B28: Palangos pradinė mokykla | C28: =ROUND(D28+E28+F28,1) -> 22.3 | E28: 22.3
A29: 17 | B29: Palangos Šventosios pagrindinė mokykla | C29: =ROUND(D29+E29+F29,1) -> 79 | E29: 79
A30: 18 | B30: Palangos senoji gimnazija | C30: =ROUND(D30+E30+F30,1) -> 41 | E30: 41
A31: 19 | B31: Palangos ,,Baltijos“ pagrindinė mokykla | C31: =ROUND(D31+E31+F31,1) -> 30 | E31: 30
A32: 20 | B32: Palangos Vlado Jurgučio progimnazija | C32: =ROUND(D32+E32+F32,1) -> 43 | E32: 43
A33: 21 | B33: Palangos sporto centras | C33: =ROUND(D33+E33+F33,1) -> 80 | E33: 80
A34: 22 | B34: Palangos Stasio Vainiūno meno mokykla | C34: =ROUND(D34+E34+F34,1) -> 42 | D34: 39.2 | E34: 2.8
A35: 23 | B35: Palangos švietimo pagalbos tarnyba | C35: =ROUND(D35+E35+F35,1) -> 6 | E35: 6
A36: 24 | B36: Palangos miesto globos namai | C36: =ROUND(D36+E36+F36,1) -> 195 | D36: 192 | E36: 3
A37: 25 | B37: Palangos socialinių paslaugų centras | C37: =ROUND(D37+E37+F37,1) -> 36.6 | E37: 36.6
A38: 26 | B38: IŠ VISO | C38: =SUM(C13:C37) -> 3068.3 | D38: =SUM(D13:D37) -> 525.8 | E38: =SUM(E13:E37) -> 2176.9 | F38: =SUM(F13:F37) -> 365.6
A40: ____________________________________

Sheet 3 priedas
A1: Projektas
A2: 3 priedas
A4: PALANGOS MIESTO SAVIVALDYBĖS 2023 METŲ BIUDŽETO ASIGNAVIMAI SAVARANKIŠKOSIOMS SAVIVALDYBĖS FUNKCIJOMS
A6: Eil. Nr. | B6: Asignavimų valdytojas | C6: Asignavimai, tūkst. Eur
C7: Iš viso | D7: iš jų darbo užmokesčiui
A8: 1 | B8: 2 | C8: 3 | D8: 4
A9: 1 | B9: Palangos miesto savivaldybės administracija | C9: 16370 | D9: 3114.5
A10: 2 | B10: Palangos miesto savivaldybės kontrolės ir audito tarnyba | C10: 120 | D10: 99
A11: 3 | B11: Palangos miesto rinkliavų centras | C11: 365.9 | D11: 253.6
A12: 4 | B12: Palangos miesto botanikos parkas | C12: 463.3 | D12: 406.2
A13: 5 | B13: Palangos turizmo informacijos centras | C13: 199.7 | D13: 122.3
A14: 6 | B14: Palangos miesto savivaldybės visuomenės sveikatos biuras | C14: 53.5 | D14: 36.8
A15: 7 | B15: Palangos miesto savivaldybės viešoji biblioteka | C15: 528.3 | D15: 460.3
A16: 8 | B16: Palangos kultūros ir jaunimo centras | C16: 778.2 | D16: 491.2
A17: 9 | B17: Palangos kurorto muziejus | C17: 225.9 | D17: 185.8
A18: 10 | B18: Palangos lopšelis-darželis „Sigutė“ | C18: 349.2 | D18: 274.3
A19: 11 | B19: Palangos lopšelis-darželis „Ąžuoliukas“ | C19: 503.5 | D19: 410.7
A20: 12 | B20: Palangos lopšelis-darželis „Žilvinas“ | C20: 756.4 | D20: 637.1
... A34: 26 | B34: Palangos socialinių paslaugų centras | C34: 823.3 | D34: 720
A35: 27 | B35: IŠ VISO ASIGNAVIMŲ | C35: =SUM(C9:C34) -> 29045 | D35: =SUM(D9:D34) -> 13115.5
A37: ____________________________________

Sheet   4 priedas 
A1: Projektas
A2: 4 priedas
A4: PALANGOS MIESTO SAVIVALDYBĖS 2023 METŲ BIUDŽETO ASIGNAVIMAI VALSTYBINĖMS (VALSTYBĖS PERDUOTOMS SAVIVALDYBĖMS) FUNKCIJOMS ATLIKTI
A6: Eil. Nr. | B6: Asignavimų valdytojas | C6: Asignavimai, tūkst. Eur
C7: Iš viso | D7: iš jų darbo užmokesčiui
A8: 1 | B8: 2 | C8: 3 | D8: 4
A9: 1 | B9: Palangos miesto savivaldybės administracija - iš viso, iš jų: | C9: =C10+C11+C12+C13+C14+C15+C16+C17+C18+C19+C20+C21+C22+C23+C24+C27+C25+C26 -> 1159.698 | D9: =D10+D11+D12+D13+D14+D15+D16+D17+D18+D19+D20+D21+D22+D23+D24+D27+D25+D26 -> 200.317
A10: 2 | B10: Valstybės garantuojamai pirminei teisinei pagalbai teikti | C10: 1.6 | D10: 1.6
A11: 3 | B11: Savivaldybėms priskirtiems archyviniams dokumentams tvarkyti | C11: 8.8 | D11: 7.4
A12: 4 | B12: Jaunimo teisių apsaugai | C12: 25.1 | D12: 24
A13: 5 | B13: Valstybinės kalbos vartojimo ir taisyklingumo kontrolei | C13: 9 | D13: 8.9
A14: 6 | B14: Civilinės būklės aktams registruoti | C14: 24.2 | D14: 22.6
A15: 7 | B15: Gyventojų registrui tvarkyti ir duomenims valstybės registrams teikti | C15: 1.5 | D15: 1.4
A16: 8 | B16: Gyvenamosios vietos deklaravimo duomenų ir gyvenamosios vietos neturinčių asmenų apskaitos duomenims tvarkyti | C16: 1.9 | D16: 1.8
A17: 9 | B17: Duomenims į Suteiktos valstybės pagalbos ir nereikšmingos pagalbos registrą teikti | C17: 0.2
A18: 10 | B18: Dalyvauti rengiant ir vykdant mobilizaciją, demobilizaciją, priimančios šalies paramą | C18: 13.4 | D18: 11.8
A19: 11 | B19: Civilinės saugos organizavimui | C19: 29.9 | D19: 26
A20: 12 | B20: Savivaldybėms priskirtos valstybinės žemės ir kito valstybės turto valdymui, naudojimui ir disponavimui juo patikėjimo teise | C20: 0.58
A21: 13 | B21: Savivaldybių patvirtintoms užimtumo didinimo programoms įgyvendinti | C21: 46.4
A22: 14 | B22: Būsto nuomos mokesčio daliai kompensuoti | C22: 31.4
A23: 15 | B23: Valstybei nuosavybės teise priklausančių melioracijos ir hidrotechnikos statinių valdymui ir naudojimui patikėjimo teise | C23: 68
A24: 16 | B24: Žemės ūkio funkcijoms atlikti | C24: 32.9 | D24: 26
A25: 17 | B25: Koordinuotai teikiamų švietimo pagalbos, socialinių ir sveikatos priežiūros paslaugų vaikams ir jų tėvams (globėjams, rūpintojams) teikimo užtikrinimas | C25: 22.002 | D25: 21.687
A26: 18 | B26: Savivaldybės erdvinių duomenų rinkiniams tvarkyti, organizuoti ir vykdyti | C26: 34.816 | D26: 25.445
A27: 19 | B27: Socialinės apsaugos priemonėms - iš viso, iš jų: | C27: =C28+C29+C30+C31+C32 -> 808 | D27: =D28+D29+D30+D31+D32 -> 21.685
A28: 20 | B28: Socialinėms išmokoms ir kompensacijoms skaičiuoti ir mokėti | C28: 110.4 | D28: 2.4
A29: 21 | B29: Socialinėms išmokoms ir kompensacijoms nepriklausomybės gynėjams skaičiuoti ir mokėti | C29: 4
A30: 22 | B30: Socialinei paramai mokiniams | C30: 292.6 | D30: 9
A31: 23 | B31: Socialinėms paslaugoms | C31: 400 | D31: 9.3
A32: 24 | B32: Neveiksnių asmenų būklės peržiūrėjimui | C32: 1 | D32: 0.985
A33: 25 | B33: Palangos miesto savivaldybės visuomenės sveikatos biuras - iš viso, iš jų: | C33: =C34+C35 -> 161.1 | D33: =D34+D35 -> 130
A34: 26 | B34: Plėtoti sveiką gyvenseną bei stiprinti sveikos gyvensenos įgūdžius ugdymo įstaigose ir bendruomenėse, vykdyti visuomenės sveikatos stebėseną savivaldybėje | C34: 128.5 | D34: 104.7
A35: 27 | B35: Plėtoti visuomenės psichikos sveikatos paslaugų prieinamumą bei ankstyvojo savižudybių atpažinimo ir kompleksinės pagalbos teikimo sistemą | C35: 32.6 | D35: 25.3
A36: 28 | B36: Palangos socialinių paslaugų centras - iš viso, iš jų: | C36: =ROUND(C37,1) -> 161.3 | D36: =ROUND(D37,1) -> 155.9
A37: 29 | B37: Socialinėms paslaugoms - socialinei priežiūrai socialinės rizikos šeimoms | C37: 161.3 | D37: 155.9
A38: 30 | B38: IŠ VISO ASIGNAVIMŲ | C38: =C9+C33+C36 -> 1482.098 | D38: =D9+D33+D36 -> 486.217
A40: _______________________

Sheet 5 priedas
A1: Projektas
A2: 5 priedas
A4: PALANGOS MIESTO SAVIVALDYBĖS 2023 METŲ BIUDŽETO ASIGNAVIMAI IŠ SPECIALIOS TIKSLINĖS VALSTYBĖS DOTACIJOS UGDYMO REIKMĖMS FINANSUOTI
A5: Eil. Nr. | B5: Asignavimų valdytojas | C5: Asignavimai, tūkst. Eur
C6: Iš viso | D6: iš jų darbo užmokesčiui
A7: 1 | B7: 2 | C7: 3 | D7: 4
A8: 1 | B8: Palangos lopšelis-darželis „Sigutė“- iš viso, iš jų: | C8: =C9+C10 -> 134.1 | D8: =D9+D10 -> 129.5
A9: 2 | B9: ikimokyklinis ugdymas | C9: 101.7 | D9: 98.4
A10: 3 | B10: priešmokyklinis ugdymas | C10: 32.4 | D10: 31.1
A11: 4 | B11: Palangos lopšelis-darželis „Ąžuoliukas“ - iš viso, iš jų: | C11: =C12+C13 -> 185.8 | D11: =D12+D13 -> 179.2
A12: 5 | B12: ikimokyklinis ugdymas | C12: 153.4 | D12: 148.1
A13: 6 | B13: priešmokyklinis ugdymas | C13: 32.4 | D13: 31.1
A14: 7 | B14: Palangos lopšelis-darželis „Žilvinas“ - iš viso, iš jų: | C14: =C15+C16 -> 346.2 | D14: =D15+D16 -> 334.5
A15: 8 | B15: ikimokyklinis ugdymas | C15: 252.5 | D15: 243.7
A16: 9 | B16: priešmokyklinis ugdymas | C16: 93.7 | D16: 90.8
A17: 10 | B17: Palangos lopšelis-darželis „Nykštukas“ - iš viso, iš jų: | C17: =C18+C19 -> 395.9 | D17: =D18+D19 -> 382.3
A18: 11 | B18: ikimokyklinis ugdymas | C18: 330.9 | D18: 319.6
A19: 12 | B19: priešmokyklinis ugdymas | C19: 65 | D19: 62.7
A20: 13 | B20: Palangos lopšelis-darželis „Gintarėlis“ - iš viso, iš jų: | C20: =C21+C22 -> 311.7 | D20: =D21+D22 -> 300.1
A21: 14 | B21: ikimokyklinis ugdymas | C21: 246.4 | D21: 237.1
A22: 15 | B22: priešmokyklinis ugdymas | C22: 65.3 | D22: 63
A23: 16 | B23: Palangos lopšelis-darželis „Pasaka“ - iš viso, iš jų: | C23: =C24+C25 -> 333.9 | D23: =D24+D25 -> 322.5
A24: 17 | B24: ikimokyklinis ugdymas | C24: 269.5 | D24: 260.5
A25: 18 | B25: priešmokyklinis ugdymas | C25: 64.4 | D25: 62
A26: 19 | B26: Palangos pradinė mokykla - iš viso, iš jų: | C26: 128.1 | D26: 121.6
A27: 20 | B27: skaitmeninio ugdymo plėtra | C27: 0.9
A28: 21 | B28: Palangos Šventosios pagrindinė mokykla - iš viso, iš jų: | C28: 384.3 | D28: 370.9
A29: 22 | B29: skaitmeninio ugdymo plėtra | C29: 1.6
A30: 23 | B30: Palangos senoji gimnazija - iš viso, iš jų: | C30: 1152.2 | D30: 1107.6
A31: 24 | B31: skaitmeninio ugdymo plėtra | C31: 5.6
A32: 25 | B32: Palangos Vlado Jurgučio progimnazija - iš viso, iš jų: | C32: 994.4 | D32: 947.5
A33: 26 | B33: skaitmeninio ugdymo plėtra | C33: 6.5
A34: 27 | B34: Palangos ,,Baltijos“ pagrindinė mokykla - iš viso, iš jų: | C34: 1228 | D34: 1177.1
A35: 28 | B35: skaitmeninio ugdymo plėtra | C35: 6.7
A36: 29 | B36: Palangos sanatorinė mokykla - iš viso, iš jų: | C36: =C37+C38+C39 -> 308.9 | D36: =D37+D38+D39 -> 299.4
A37: 30 | B37: bendrasis ugdymas | C37: 262.9 | D37: 255.5
A38: 31 | B38: priešmokyklinis ugdymas | C38: 45.1 | D38: 43.9
A39: 32 | B39: skaitmeninio ugdymo plėtra | C39: 0.9
A40: 33 | B40: Palangos švietimo pagalbos tarnyba | C40: 102.7 | D40: 101.3
A41: 34 | B41: Palangos miesto savivaldybės administracija | C41: 1516.4
...

Sheet  6 priedas
A1: Projektas
A2: 6 priedas
A4: PALANGOS MIESTO SAVIVALDYBĖS 2023 METŲ BIUDŽETO ASIGNAVIMAI IŠ VALSTYBĖS BIUDŽETO DOTACIJŲ
A6: Eil. Nr. | B6: Asignavimų valdytojas | C6: Asignavimai, tūkst. Eur
C7: Iš viso | D7: iš jų darbo užmokesčiui
A8: 1 | B8: 2 | C8: 3 | D8: 4
A9: 1 | B9: Palangos miesto savivaldybės administracija - iš viso, iš jų: | C9: =C10+C11+C12+C13+C14+C15+C17+C16 -> 426.236 | D9: =D10+D11+D12+D13+D14+D15+D17+D16 -> 1.905
A10: 2 | B10: Atliekų prevencijos ir tvarkymo programai | C10: 213.365
A11: 3 | B11: Neformaliojo vaikų švietimo paslaugų plėtrai | C11: 104
A12: 4 | B12: Socialinės reabilitacijos paslaugų neįgaliesiems teikimas bendruomenėje | C12: 15.388 | D12: 0.4
A13: 5 | B13: Organizuoti būsto ir jo aplinkos pritaikymą neįgaliesiems | C13: 0
A14: 6 | B14: Asmeninei pagalbai teikti ir administruoti | C14: 61.313 | D14: 1.185
A15: 7 | B15: Kompleksinių paslaugų šeimai organizavimas ir teikimas | C15: 12.34
A16: 8 | B16: Kompensacijoms už būsto nuomą finansuoti | C16: 3
A17: 9 | B17: Kompensacijoms už būsto suteikimą ukrainiečiams finansuoti | C17: 16.83 | D17: 0.32
A18: 10 | B18: Palangos miesto savivaldybės viešoji biblioteka - iš viso, iš jų: | C18: =C19 -> 20.2
A19: 11 | B19: Savivaldybės viešosios bibliotekos bibliotekų fondo papildymui | C19: 20.2
A20: 12 | B20: Palangos sanatorinė mokykla - iš viso, iš jų: | C20: =C21 -> 212 | D20: =D21 -> 121
A21: 13 | B21: Mokykloms (klasėms), skirtoms mokiniams, turintiems specialiųjų ugdymosi poreikių, išlaikyti | C21: 212 | D21: 121
A22: 14 | B22: Palangos ,,Baltijos“ pagrindinė mokykla - iš viso, iš jų: | C22: =C23 -> 54.3 | D22: =D23 -> 49
A23: 15 | B23: Mokykloms (klasėms), skirtoms mokiniams, turintiems specialiųjų ugdymosi poreikių, išlaikyti | C23: 54.3 | D23: 49
A24: 16 | B24: IŠ VISO ASIGNAVIMŲ | C24: =C9+C18+C20+C22 -> 712.736 | D24: =D9+D18+D20+D22 -> 171.905
A26: ____________________________

Sheet  7 priedas
A1: Projektas
A2: 7 priedas
A4: PALANGOS MIESTO SAVIVALDYBĖS 2023 METŲ BIUDŽETO ASIGNAVIMAI IŠ EUROPOS SĄJUNGOS FINANSINĖS PARAMOS LĖŠŲ
A6: Eil. Nr. | B6: Asignavimų valdytojas | C6: Asignavimai, tūkst. Eur
C7: Iš viso | D7: iš jų darbo užmokesčiui
A8: 1 | B8: 2 | C8: 3 | D8: 4
A9: 1 | B9: Palangos miesto savivaldybės administracija - iš viso, iš jų: | C9: =C10+C11+C12+C13+C14+C15+C17+C18+C19+C21+C16+C22+C23+C24+C20 -> 5158.3 | D9: =D10+D11+D12+D13+D14+D15+D17+D18+D19+D21+D16+D22+D23+D24 -> 2.7
A10: 2 | B10: Darnaus judumo priemonių diegimui Palangos mieste | C10: 132
A11: 3 | B11: Potvynių rizikos valdymas Palangos mieste | C11: 296.7
A12: 4 | B12: Saugios aplinkos paslaugų plėtra, stiprinant gebėjimus, bendravimą, bendradarbiavimą | C12: 15.9
A13: 5 | B13: Istorijos ir kultūrinio paveldo išsaugojimas Baltijos jūros regione | C13: 89.9
A14: 6 | B14: Gintaro krantas - tarpregioninio kultūrinio ir pažintinio turizmo plėtra | C14: 170.7
A15: 7 | B15: Paveldo objektų pasiekiamumo dviračiais didinimas | C15: 125.8
A16: 8 | B16: Atsinaujinančių energijos šaltinių panaudojimas | C16: 686.8
A17: 9 | B17: Komunalinių atliekų tvarkymo infrastruktūros plėtrai | C17: 594.9
A18: 10 | B18: Gerovės konsultantų modelio įdiegimas Palangos miesto savivaldybėje | C18: 41.5
A19: 11 | B19: Kompleksinių paslaugų šeimai organizavimas ir teikimas | C19: 22 | D19: 2.7
A20: 12 | B20: Sporto, pramogų objektų ir poilsio erdvių vystymas | C20: 7.9
A21: 13 | B21: Šventosios jūrų uosto plėtra | C21: 1394.5
A22: 14 | B22: Karjeros specialistų tinklo vystymas | C22: 43.5
A23: 15 | B23: Atviros ekosistemos atsiskaitymams negrynais pinigais bendrojo ugdymo mokyklų valgyklose kūrimas | C23: 36.2
A24: 16 | B24: Tūkstantmečio mokyklų programos įgyvendinimas | C24: 1500
A25: 17 | B25: Palangos socialinių paslaugų centras - iš viso, iš jų: | C25: =C26 -> 5.7
A26: 18 | B26: Budinčio globotojo, globėjų veiklos organizavimas | C26: 5.7
A27: 19 | B27: IŠ VISO ASIGNAVIMŲ | C27: =C9+C25 -> 5164 | D27: =D9+D25 -> 2.7
A29: _________________________

Sheet  8 priedas
A1: Projektas
A2: 8 priedas
A4: PALANGOS MIESTO SAVIVALDYBĖS 2023 METŲ BIUDŽETO ASIGNAVIMAI IŠ BIUDŽETINIŲ ĮSTAIGŲ GAUTŲ PAJAMŲ ĮMOKŲ PROGRAMOMS FINANSUOTI
A6: Eil. Nr. | B6: Asignavimų valdytojas | C6: Asignavimai iš pajamų už prekes ir paslaugas, tūkst. Eur | E6: Asignavimai iš pajamų už ilgalaikio ir trumpalaikio materialiojo turto nuomą, tūkst. Eur
C7: Iš viso | D7: iš jų darbo užmokesčiui | E7: Iš viso | F7: iš jų darbo užmokesčiui
A9: 1 | B9: 2 | C9: 3 | D9: 4 | E9: 5 | F9: 6
A10: 1 | B10: Palangos miesto savivaldybės administracija | C10: 150 | E10: 220.3
A11: 2 | B11: Palangos miesto rinkliavų centras | C11: 92 | D11: 36.6 | E11: 2.7
A12: 3 | B12: Palangos miesto botanikos parkas | C12: 51 | D12: 21.5 | E12: 43
A13: 4 | B13: Palangos investicijų valdymas | C13: 1379 | D13: 725 | E13: 55
A14: 5 | B14: Palangos turizmo informacijos centras | C14: 9.5 | E14: 2.7
A15: 6 | B15: Palangos miesto savivaldybės visuomenės sveikatos biuras | C15: 3 | D15: 1.5
A16: 7 | B16: Palangos miesto savivaldybės viešoji biblioteka | C16: 5.9 | E16: 5
A17: 8 | B17: Palangos kurorto muziejus | C17: 8.5 | E17: 1
A18: 9 | B18: Palangos kultūros ir jaunimo centras | C18: 50 | E18: 24
A19: 10 | B19: Palangos lopšelis-darželis „Sigutė“ | C19: 27.3
A20: 11 | B20: Palangos lopšelis-darželis „Ąžuoliukas“ | C20: 43.7 | E20: 1.8
A21: 12 | B21: Palangos lopšelis-darželis „Žilvinas“ | C21: 63.9 | E21: 3
A22: 13 | B22: Palangos lopšelis-darželis „Nykštukas“ | C22: 96.8 | E22: 1.3
A23: 14 | B23: Palangos lopšelis-darželis „Gintarėlis“ | C23: 80.3 | E23: 1.7
A24: 15 | B24: Palangos lopšelis-darželis „Pasaka“ | C24: 66.9 | E24: 4.1
A25: 16 | B25: Palangos pradinė mokykla | C25: 22.3
A26: 17 | B26: Palangos Šventosios pagrindinė mokykla | C26: 79
A27: 18 | B27: Palangos senoji gimnazija | C27: 41
A28: 19 | B28: Palangos ,,Baltijos“ pagrindinė mokykla | C28: 30
A29: 20 | B29: Palangos Vlado Jurgučio progimnazija | C29: 43
A30: 21 | B30: Palangos sporto centras | C30: 80
A31: 22 | B31: Palangos Stasio Vainiūno meno mokykla | C31: 42 | D31: 17.8
A32: 23 | B32: Palangos švietimo pagalbos tarnyba | C32: 6 | D32: 0.8
A33: 24 | B33: Palangos miesto globos namai | C33: 195 | D33: 124
A34: 25 | B34: Palangos socialinių paslaugų centras | C34: 36.6 | D34: 11.6
A35: 26 | B35: IŠ VISO ASIGNAVIMŲ | C35: =SUM(C10:C34) -> 2702.7 | D35: =SUM(D10:D34) -> 938.8 | E35: =SUM(E10:E34) -> 365.6 | F35: =SUM(F10:F34) -> 0
A37: ______________________________________

Sheet 9 priedas
A1: Projektas
A2: 9 priedas
A4: PALANGOS MIESTO SAVIVALDYBĖS 2023 METŲ BIUDŽETO ASIGNAVIMAI ILGALAIKIŲ PASKOLŲ LĖŠOMIS
A6: Eil. Nr. | B6: Asignavimų valdytojas | C6: Asignavimai, tūkst. Eur
C7: Iš viso | D7: iš jų darbo užmokesčiui
A8: 1 | B8: 2 | C8: 3 | D8: 4
A9: 1 | B9: Palangos miesto savivaldybės administracija - iš viso, iš jų: | C9: =C10+C12 -> 2066.6 | D9: =D10+D12 -> 0
A10: 2 | B10: Įsipareigojimų vykdymui - iš viso, iš jų: | C10: =C11 -> 950
A11: 3 | B11: Sporto, pramogų objektų ir poilsio erdvių vystymui | C11: 950 | D11: 0
A12: 4 | B12: Europos Sąjungos ir kitos tarptautinės finansinės paramos projektams finansuoti - iš viso, iš jų: | C12: =C13+C14 -> 1116.6 | D12: =D13+D14 -> 0
A13: 5 | B13: Atsinaujinančių energijos šaltinių panaudojimui | C13: 881.4
A14: 6 | B14: Komunalinių atliekų tvarkymo infrastruktūros plėtrai | C14: 235.2
A15: 7 | B15: IŠ VISO ASIGNAVIMŲ | C15: =C9 -> 2066.6 | D15: =D9 -> 0
A17: ______________________

Sheet 10 priedas
A1: Projektas
A2: 10 priedas
A4: PALANGOS MIESTO SAVIVALDYBĖS 2023 METŲ ASIGNAVIMAI IŠ PRAĖJUSIŲ METŲ BIUDŽETO LĖŠŲ LIKUČIO
A6: Eil. Nr. | B6: Asignavimų valdytojas | C6: Asignavimai, tūkst. Eur
C7: Iš viso | D7: iš jų darbo užmokesčiui
A8: 1 | B8: 2 | C8: 3 | D8: 4
A9: 1 | B9: Palangos miesto savivaldybės administracija - iš viso, iš jų: | C9: =C10+C13+C12+C11 -> 3120.3 | D9: =D10 -> 0
A10: 2 | B10: Ilgalaikių paskolų grąžinimui | C10: 985
A11: 3 | B11: Sporto, pramogų objektų ir poilsio erdvių vystymui | C11: 743.9
A12: 4 | B12: Šventosios jūrų uosto plėtrai | C12: 991.4
A13: 5 | B13: Stacionarių sveikatos priežiūros įstaigų pastatų modernizavimui | C13: 400
A14: 6 | B14: IŠ VISO ASIGNAVIMŲ | C14: =C9 -> 3120.3 | D14: =D9 -> 0
A16: _________________________

Sheet 11 priedas
A1: Projektas
A2: 11 priedas
A4: PALANGOS MIESTO SAVIVALDYBĖS 2023 METŲ ASIGNAVIMAI IŠ TIKSLINĖS PASKIRTIES LĖŠŲ IR BIUDŽETINIŲ ĮSTAIGŲ PAJAMŲ ĮMOKŲ LIKUČIŲ (PRAĖJUSIŲ METŲ NEPANAUDOTOS LĖŠOS)
A6: Eil. Nr. | B6: Asignavimų valdytojas | C6: Asignavimai, tūkst. Eur
C7: Iš viso | D7: iš jų darbo užmokesčiui
A8: 1 | B8: 2 | C8: 3 | D8: 4
A9: 1 | B9: Palangos miesto savivaldybės administracija - iš viso, iš jų: | C9: =C10+C11+C12+C13+C14+C15+C16+C17+C18+C19 -> 2776.898 | D9: =D10+D11+D12+D13+D14+D15+D16+D17+D18+D19 -> 0
A10: 2 | B10: iš pajamų įmokų už prekes ir paslaugas | C10: 0.131
A11: 3 | B11: iš pajamų įmokų už turto nuomą | C11: 28.449
A12: 4 | B12: iš Aplinkos apsaugos rėmimo specialiosios programos lėšų likučio | C12: 212.628
A13: 5 | B13: iš lėšų už privatizuotas gyvenamąsias ir kitas patalpas | C13: 156.777
A14: 6 | B14: iš vietinės rinkliavos už komunalinių atliekų surinkimą ir tvarkymą | C14: 30.701
A15: 7 | B15: iš valstybinės žemės pardavimo lėšų | C15: 796.88
A16: 8 | B16: iš Europos Sąjungos finansinės paramos fondų lėšų | C16: 404.112
A17: 9 | B17: iš infrastruktūros plėtros įmokų | C17: 716.788
A18: 10 | B18: iš valstybės biudžeto lėšų | C18: 51.742
A19: 11 | B19: iš ilgalaikių paskolų lėšų likučio | C19: 378.69
A20: 12 | B20: Palangos miesto rinkliavų centras - iš viso, iš jų: | C20: =C21 -> 148.037 | D20: =D21 -> 15.028
A21: 13 | B21: iš pajamų įmokų už prekes ir paslaugas | C21: 148.037 | D21: 15.028
A22: 14 | B22: Palangos miesto botanikos parkas - iš viso, iš jų: | C22: =C23+C24 -> 15.731
A23: 15 | B23: iš pajamų įmokų už prekes ir paslaugas | C23: 15.708
A24: 16 | B24: iš pajamų įmokų už turto nuomą | C24: 0.023
A25: 17 | B25: Palangos investicijų valdymas - iš viso, iš jų: | C25: =C26 -> 16.467 | D25: =D26 -> 1.4
A26: 18 | B26: iš pajamų įmokų už prekes ir paslaugas | C26: 16.467 | D26: 1.4
A27: 19 | B27: Palangos turizmo informacijos centras - iš viso, iš jų: | C27: =C28+C29+C30 -> 29.481
A28: 20 | B28: iš pajamų įmokų už prekes ir paslaugas | C28: 2.964
A29: 21 | B29: iš pajamų įmokų už turto nuomą | C29: 0.233
A30: 22 | B30: iš Europos Sąjungos finansinės paramos fondų lėšų | C30: 26.284
A31: 23 | B31: Palangos miesto savivaldybės visuomenės sveikatos biuras - iš viso, iš jų: | C31: =C32 -> 2.85 | D31: =D32 -> 2.81
A32: 24 | B32: iš pajamų įmokų už prekes ir paslaugas | C32: 2.85 | D32: 2.81
A33: 25 | B33: Palangos kultūros ir jaunimo centras - iš viso, iš jų: | C33: =C34+C35 -> 1.466
A34: 26 | B34: iš pajamų įmokų už prekes ir paslaugas | C34: 0.605
A35: 27 | B35: iš pajamų įmokų už turto nuomą | C35: 0.861
A36: 28 | B36: Palangos kurorto muziejus - iš viso, iš jų: | C36: =C37+C38 -> 1.586 | D36: =D37+D38 -> 0
A37: 29 | B37: iš pajamų įmokų už prekes ir paslaugas | C37: 0.326
A38: 30 | B38: iš pajamų įmokų už turto nuomą | C38: 1.26
A39: 31 | B39: Palangos lopšelis-darželis „Ąžuoliukas“ - iš viso, iš jų: | C39: =C40 -> 0.519
A40: 32 | B40: iš pajamų įmokų už prekes ir paslaugas | C40: 0.519
A41: 33 | B41: Palangos lopšelis-darželis „Sigutė“ - iš viso, iš jų: | C41: =C42 -> 0.05
A42: 34 | B42: iš pajamų įmokų už prekes ir paslaugas | C42: 0.05
...
