Workbook
Name asriut: sarasas!$P$2:$P$11
Name azt: sarasas!$R$2:$R$11
Name bnt: sarasas!$M$2:$M$11
Name dgpibt: sarasas!$F$2:$F$11
Name knnzapp: sarasas!$S$2:$S$11
Name kpot: sarasas!$I$2:$I$11
Name kpz: sarasas!$D$2:$D$11
Name mupz: sarasas!$B$2:$B$11
Name nit: sarasas!$N$2:$N$11
Name pisot: sarasas!$H$2:$H$11
Name rt: sarasas!$L$2:$L$11
Name siitkt: sarasas!$K$2:$K$11
Name sikaot: sarasas!$J$2:$J$11
Name trat: sarasas!$O$2:$O$11
Name tvsat: sarasas!$Q$2:$Q$11
Name vidgpt: sarasas!$E$2:$E$11
Name vpt: sarasas!$G$2:$G$11
Name vupz: sarasas!$C$2:$C$11
Name zupz: sarasas!$A$2:$A$11

Sheet Įmokų skaičiavimo forma
A1: Pildymo instrukcija:
A2: 1. Iš sąrašo pasirenkamas objekto eilės numeris. 2. Įvedamas objekto ar jo užimamas plotas. 3. Iš sąrašo pasirenkama žemės paskirtis, bei statinių paskirtis. Statinių paskirties sąrašas keičiasi, priklausomai nuo pasirinktos žemės paskirties. 4. Nurodoma, ar teikiamas prašymasi dėl lengvatos suteikimo.
A3: Forma leidžia suvesti iki 10 objektų.
A6: Bendra įmokos suma: | B6: =SUM(I9:I18) -> 0
A8: Objektas | B8: m2 | C8: Žemės paskirtis | D8: ZP | E8: Statinių paskirtis | F8: Helper | G8: Ar teikiamas prašymas dėl lengvatos suteikimo | H8: Eur / m2 | I8: Įmokos suma
A9: Objektas Nr. 1 | D9: =IF(B9>0,VLOOKUP(C9,Duomenys!B2:C20,2,FALSE),0) -> 0 | F9: =IF(C9<>0,C9&"|"&E9,0) -> 0 | H9: =IF(B9>0,IF(G9="Ne",VLOOKUP(F9,Duomenys!$G$2:$I$42,2,FALSE),VLOOKUP(F9,Duomenys!$G$2:$I$42,3,FALSE)),0) -> 0 | I9: =IF(B9>0,H9*B9,0) -> 0
D10: =IF(B10>0,VLOOKUP(C10,Duomenys!B3:C21,2,FALSE),0) -> 0 | F10: =IF(C10<>0,C10&"|"&E10,0) -> 0 | H10: =IF(B10>0,IF(G10="Ne",VLOOKUP(F10,Duomenys!$G$2:$I$42,2,FALSE),VLOOKUP(F10,Duomenys!$G$2:$I$42,3,FALSE)),0) -> 0 | I10: =IF(B10>0,H10*B10,0) -> 0
D11: =IF(B11>0,VLOOKUP(C11,Duomenys!B4:C22,2,FALSE),0) -> 0 | F11: =IF(C11<>0,C11&"|"&E11,0) -> 0 | H11: =IF(B11>0,IF(G11="Ne",VLOOKUP(F11,Duomenys!$G$2:$I$42,2,FALSE),VLOOKUP(F11,Duomenys!$G$2:$I$42,3,FALSE)),0) -> 0 | I11: =IF(B11>0,H11*B11,0) -> 0
D12: =IF(B12>0,VLOOKUP(C12,Duomenys!B5:C23,2,FALSE),0) -> 0 | F12: =IF(C12<>0,C12&"|"&E12,0) -> 0 | H12: =IF(B12>0,IF(G12="Ne",VLOOKUP(F12,Duomenys!$G$2:$I$42,2,FALSE),VLOOKUP(F12,Duomenys!$G$2:$I$42,3,FALSE)),0) -> 0 | I12: =IF(B12>0,H12*B12,0) -> 0
D13: =IF(B13>0,VLOOKUP(C13,Duomenys!B6:C24,2,FALSE),0) -> 0 | F13: =IF(C13<>0,C13&"|"&E13,0) -> 0 | H13: =IF(B13>0,IF(G13="Ne",VLOOKUP(F13,Duomenys!$G$2:$I$42,2,FALSE),VLOOKUP(F13,Duomenys!$G$2:$I$42,3,FALSE)),0) -> 0 | I13: =IF(B13>0,H13*B13,0) -> 0
D14: =IF(B14>0,VLOOKUP(C14,Duomenys!B7:C25,2,FALSE),0) -> 0 | F14: =IF(C14<>0,C14&"|"&E14,0) -> 0 | H14: =IF(B14>0,IF(G14="Ne",VLOOKUP(F14,Duomenys!$G$2:$I$42,2,FALSE),VLOOKUP(F14,Duomenys!$G$2:$I$42,3,FALSE)),0) -> 0 | I14: =IF(B14>0,H14*B14,0) -> 0
D15: =IF(B15>0,VLOOKUP(C15,Duomenys!B8:C26,2,FALSE),0) -> 0 | F15: =IF(C15<>0,C15&"|"&E15,0) -> 0 | H15: =IF(B15>0,IF(G15="Ne",VLOOKUP(F15,Duomenys!$G$2:$I$42,2,FALSE),VLOOKUP(F15,Duomenys!$G$2:$I$42,3,FALSE)),0) -> 0 | I15: =IF(B15>0,H15*B15,0) -> 0
D16: =IF(B16>0,VLOOKUP(C16,Duomenys!B9:C27,2,FALSE),0) -> 0 | F16: =IF(C16<>0,C16&"|"&E16,0) -> 0 | H16: =IF(B16>0,IF(G16="Ne",VLOOKUP(F16,Duomenys!$G$2:$I$42,2,FALSE),VLOOKUP(F16,Duomenys!$G$2:$I$42,3,FALSE)),0) -> 0 | I16: =IF(B16>0,H16*B16,0) -> 0
D17: =IF(B17>0,VLOOKUP(C17,Duomenys!B10:C28,2,FALSE),0) -> 0 | F17: =IF(C17<>0,C17&"|"&E17,0) -> 0 | H17: =IF(B17>0,IF(G17="Ne",VLOOKUP(F17,Duomenys!$G$2:$I$42,2,FALSE),VLOOKUP(F17,Duomenys!$G$2:$I$42,3,FALSE)),0) -> 0 | I17: =IF(B17>0,H17*B17,0) -> 0
D18: =IF(B18>0,VLOOKUP(C18,Duomenys!B11:C29,2,FALSE),0) -> 0 | F18: =IF(C18<>0,C18&"|"&E18,0) -> 0 | H18: =IF(B18>0,IF(G18="Ne",VLOOKUP(F18,Duomenys!$G$2:$I$42,2,FALSE),VLOOKUP(F18,Duomenys!$G$2:$I$42,3,FALSE)),0) -> 0 | I18: =IF(B18>0,H18*B18,0) -> 0
A31: Patikslinimai kelioms statinių paskirtims: | B31: viešbutis at viešbučių kompleksas iki 10 tūkst. m2 (imtinai) | E31: - viešbutis ar viešbučių kompleksas iki 10 tūkst. m2 (imtinai), kuriame ne mažiau kaip 30%, skiriama teikti papildomas paslaugas, kurioms reikalinga speciali infrastruktūra (konferencijų salė ir panašiai) ir viename iš pastatų, įrengiama ne mažiau kaip 20 apgyvendinti skirtų kambarių
B32: viešbutis at viešbučių kompleksas virš 10 tūkst. m2 | E32: - viešbutis ar viešbučių kompleksas virš 10 tūkst. m2, kuriame ne mažiau kaip 20% statomo (-ų)/rekonstruojamo(-ų) pastato(-ų) ploto, skiriama teikti papildomas paslaugas, kurioms reikalinga speciali infrastruktūra (konferencijų salė ir panašiai) ir viename iš pastatų įrengiama ne mažiau kaip 20 apgyvendinti skirtų kambarių
A64: Pastabos: - Jei vykdoma inžinerinės savivaldybės infrastruktūros plėtrą, tuomet būtina pasirinkti pagrindinę žemės ir pastatų naudojimo paskirtį. - Tais atvejais, kai pastato dalys turi skirtingą paskirtį, taikomas aukštesnis koeficientas. | E64: Visuomeninės paskirties teritorijų pastatas | H64: 0.1
E65: Komercinės paskirties objektų teritorijų sporto paskirties pastatas | H65: 0.1
E66: Vieno ar dviejų būtų paskirties pastatas | H66: 0.25
E67: Kitas gyvenamosios ir negyvenamosios paskirties pastatas | H67: 0.5
E68: Komercinės paskirties objektų teritorijų viešbučių paskirties pastatas | H68: 1.5
E69: Daugiabutis gyvenamasis pastatas | H69: 2
E70: Bendrabučių teritorija | H70: 2
E71: Pramonės ir sandėliavimo objektų teritorija | H71: 2
E72: Komercinės paskirties objektų teritorijų pastatas | H72: 2
E73: Susisiekimo ir inžinerinių komunikacijų objektų teritorija | H73: 2
E74: Susisiekimo ir inžinerinių tinklų koridorių teritorija | H74: 2
E75: Rekreacinė teritorija | H75: 2
E76: Kiti objektai ir teritorijos | H76: 1

Sheet Duomenys
A1: Objektai | B1: Žemės paskirtis | E1: ŽP | F1: SP | G1: Helper | H1: Eur / m2 | I1: Eur / m2
A2: Objektas Nr. 1 | B2: žemės ūkio paskirties žemė | C2: zupz | E2: atliekų saugojimo, rūšiavimo ir utilizavimo teritorija | F2: visi statiniai | G2: =E2&"|"&F2 -> atliekų saugojimo, rūšiavimo ir utilizavimo teritorija|visi statiniai | H2: 50 | I2: 0 | K2: Taip
A3: Objektas Nr. 2 | B3: miškų ūkio paskirties žemė | C3: mupz | E3: atskirųjų želdynų teritorija | F3: visi statiniai | G3: =E3&"|"&F3 -> atskirųjų želdynų teritorija|visi statiniai | H3: 50 | I3: 0 | K3: Ne
A4: Objektas Nr. 3 | B4: vandens ūkio paskirties žemė | C4: vupz | E4: bendrojo naudojimo teritorija | F4: visi statiniai | G4: =E4&"|"&F4 -> bendrojo naudojimo teritorija|visi statiniai | H4: 50 | I4: 0
A5: Objektas Nr. 4 | B5: konservacinės paskirties žemė | C5: kpz | E5: daugiabučių gyvenamųjų pastatų ir bendrabučių teritorija | F5: globos namai | G5: =E5&"|"&F5 -> daugiabučių gyvenamųjų pastatų ir bendrabučių teritorija|globos namai | H5: 90 | I5: 0
A6: Objektas Nr. 5 | B6: vienbučių ir dvibučių gyvenamųjų pastatų teritorija | C6: vidgpt | E6: daugiabučių gyvenamųjų pastatų ir bendrabučių teritorija | F6: visi statiniai | G6: =E6&"|"&F6 -> daugiabučių gyvenamųjų pastatų ir bendrabučių teritorija|visi statiniai | H6: 90 | I6: 0
A7: Objektas Nr. 6 | B7: daugiabučių gyvenamųjų pastatų ir bendrabučių teritorija | C7: dgpibt | E7: kita, nepriklausomai nuo žemės ar pastatų paskirties | F7: kiti inžineriniai statiniai, neturintys aiškios funkcinės priklausomybės ar apibrėžto naudojimo, kurie tarnauja pagrindiniam daiktui (kiemo aikštelės, stoginės, pavėsinės ir panašiai) | G7: =E7&"|"&F7 -> kita, nepriklausomai nuo žemės ar pastatų paskirties|kiti inžineriniai statiniai, neturintys aiškios funkcinės priklausomybės ar apibrėžto naudojimo, kurie tarnauja pagrindiniam daiktui (kiemo aikštelės, stoginės, pavėsinės ir panašiai) | H7: 50 | I7: 0
A8: Objektas Nr. 7 | B8: visuomeninės paskirties teritorija | C8: vpt | E8: kita, nepriklausomai nuo žemės ar pastatų paskirties | F8: susisiekimo komunikacijos | G8: =E8&"|"&F8 -> kita, nepriklausomai nuo žemės ar pastatų paskirties|susisiekimo komunikacijos | H8: 50 | I8: 0
A9: Objektas Nr. 8 | B9: pramonės ir sandėliavimo objektų teritorija | C9: pisot | E9: kita, nepriklausomai nuo žemės ar pastatų paskirties | F9: vandentiekio, šilumos, nuotekų šalinimo tinklus | G9: =E9&"|"&F9 -> kita, nepriklausomai nuo žemės ar pastatų paskirties|vandentiekio, šilumos, nuotekų šalinimo tinklus | H9: 50 | I9: 0
A10: Objektas Nr. 9 | B10: komercinės paskirties objektų teritorija | C10: kpot | E10: kita, nepriklausomai nuo žemės ar pastatų paskirties | F10: visi statiniai | G10: =E10&"|"&F10 -> kita, nepriklausomai nuo žemės ar pastatų paskirties|visi statiniai | H10: 50 | I10: 0
A11: Objektas Nr. 10 | B11: susisiekimo ir inžinerinių komunikacijų aptarnavimo objektų teritorijos | C11: sikaot | E11: komercinės paskirties objektų teritorija | F11: administracinės paskirties pastatas | G11: =E11&"|"&F11 -> komercinės paskirties objektų teritorija|administracinės paskirties pastatas | H11: 50 | I11: 0
B12: susisiekimo ir inžinerinių tinklų koridorių teritorija | C12: siitkt | E12: komercinės paskirties objektų teritorija | F12: kitos paskirties pastatas | G12: =E12&"|"&F12 -> komercinės paskirties objektų teritorija|kitos paskirties pastatas | H12: 90 | I12: 0
B13: rekreacinė teritorija | C13: rt | E13: komercinės paskirties objektų teritorija | F13: maitinimo paskirties pastatas | G13: =E13&"|"&F13 -> komercinės paskirties objektų teritorija|maitinimo paskirties pastatas | H13: 50 | I13: 0
B14: bendrojo naudojimo teritorija | C14: bnt | E14: komercinės paskirties objektų teritorija | F14: paslaugų paskirties pastatas | G14: =E14&"|"&F14 -> komercinės paskirties objektų teritorija|paslaugų paskirties pastatas | H14: 50 | I14: 0
B15: naudingųjų iškasenų teritorija | C15: nit | E15: komercinės paskirties objektų teritorija | F15: prekybos paskirties pastatas | G15: =E15&"|"&F15 -> komercinės paskirties objektų teritorija|prekybos paskirties pastatas | H15: 90 | I15: 0
B16: teritorija krašto apsaugos tikslams | C16: trat | E16: komercinės paskirties objektų teritorija | F16: prekybos pastatas, kuriame ne mažiau kaip 40 procentų statomo/rekonstruojamo pastato ploto skiriama sportui ir (ar) sveikatingumui | G16: =E16&"|"&F16 -> komercinės paskirties objektų teritorija|prekybos pastatas, kuriame ne mažiau kaip 40 procentų statomo/rekonstruojamo pastato ploto skiriama sportui ir (ar) sveikatingumui | H16: 90 | I16: 10
B17: atliekų saugojimo, rūšiavimo ir utilizavimo teritorija | C17: asriut | E17: komercinės paskirties objektų teritorija | F17: sporto paskirties pastatas | G17: =E17&"|"&F17 -> komercinės paskirties objektų teritorija|sporto paskirties pastatas | H17: 14 | I17: 0
B18: teritorija valstybės sienos apsaugos tikslams | C18: tvsat | E18: komercinės paskirties objektų teritorija | F18: viešbučių paskirties pastatas | G18: =E18&"|"&F18 -> komercinės paskirties objektų teritorija|viešbučių paskirties pastatas | H18: 70 | I18: 0
B19: atskirųjų želdynų teritorija | C19: azt | E19: komercinės paskirties objektų teritorija | F19: viešbutis at viešbučių kompleksas iki 10 tūkst. m2 (imtinai) | G19: =E19&"|"&F19 -> komercinės paskirties objektų teritorija|viešbutis at viešbučių kompleksas iki 10 tūkst. m2 (imtinai) | H19: 70 | I19: 10
B20: kita, nepriklausomai nuo žemės ar pastatų paskirties | C20: knnzapp | E20: komercinės paskirties objektų teritorija | F20: viešbutis at viešbučių kompleksas virš 10 tūkst. m2 | G20: =E20&"|"&F20 -> komercinės paskirties objektų teritorija|viešbutis at viešbučių kompleksas virš 10 tūkst. m2 | H20: 70 | I20: 10
E21: konservacinės paskirties žemė | F21: visi statiniai | G21: =E21&"|"&F21 -> konservacinės paskirties žemė|visi statiniai | H21: 50 | I21: 0
E22: miškų ūkio paskirties žemė | F22: visi statiniai | G22: =E22&"|"&F22 -> miškų ūkio paskirties žemė|visi statiniai | H22: 50 | I22: 0
E23: naudingųjų iškasenų teritorija | F23: visi statiniai | G23: =E23&"|"&F23 -> naudingųjų iškasenų teritorija|visi statiniai | H23: 50 | I23: 0
E24: pramonės ir sandėliavimo objektų teritorija | F24: kiti statiniai | G24: =E24&"|"&F24 -> pramonės ir sandėliavimo objektų teritorija|kiti statiniai | H24: 90 | I24: 0
E25: pramonės ir sandėliavimo objektų teritorija | F25: logistikos centras | G25: =E25&"|"&F25 -> pramonės ir sandėliavimo objektų teritorija|logistikos centras | H25: 90 | I25: 10
E26: rekreacinė teritorija | F26: visi statiniai | G26: =E26&"|"&F26 -> rekreacinė teritorija|visi statiniai | H26: 90 | I26: 0
E27: susisiekimo ir inžinerinių komunikacijų aptarnavimo objektų teritorijos | F27: daugiaaukštė automobilių stovėjimo aikštelė | G27: =E27&"|"&F27 -> susisiekimo ir inžinerinių komunikacijų aptarnavimo objektų teritorijos|daugiaaukštė automobilių stovėjimo aikštelė | H27: 90 | I27: 10
E28: susisiekimo ir inžinerinių komunikacijų aptarnavimo objektų teritorijos | F28: visi statiniai | G28: =E28&"|"&F28 -> susisiekimo ir inžinerinių komunikacijų aptarnavimo objektų teritorijos|visi statiniai | H28: 90 | I28: 0
E29: susisiekimo ir inžinerinių tinklų koridorių teritorija | F29: visi statiniai | G29: =E29&"|"&F29 -> susisiekimo ir inžinerinių tinklų koridorių teritorija|visi statiniai | H29: 90 | I29: 0
E30: teritorija krašto apsaugos tikslams | F30: visi statiniai | G30: =E30&"|"&F30 -> teritorija krašto apsaugos tikslams|visi statiniai | H30: 50 | I30: 0
E31: teritorija valstybės sienos apsaugos tikslams | F31: visi statiniai | G31: =E31&"|"&F31 -> teritorija valstybės sienos apsaugos tikslams|visi statiniai | H31: 50 | I31: 0
E32: vandens ūkio paskirties žemė | F32: kiti statiniai | G32: =E32&"|"&F32 -> vandens ūkio paskirties žemė|kiti statiniai | H32: 50 | I32: 0
... E42: žemės ūkio paskirties žemė | F42: pirmas gyvenamasis pastatas | G42: =E42&"|"&F42 -> žemės ūkio paskirties žemė|pirmas gyvenamasis pastatas | H42: 20 | I42: 0

Sheet sarasas
A1: zupz | B1: mupz | C1: vupz | D1: kpz | E1: vidgpt | F1: dgpibt | G1: vpt | H1: pisot | I1: kpot | J1: sikaot | K1: siitkt | L1: rt | M1: bnt | N1: nit | O1: trat | P1: asriut | Q1: tvsat | R1: azt | S1: knnzapp
A2: pirmas gyvenamasis pastatas | B2: visi statiniai | C2: statiniai skirti rekreacinei veiklai | D2: visi statiniai | E2: pirmas gyvenamasis pastatas | F2: visi statiniai | G2: visi statiniai | H2: logistikos centras | I2: viešbučių paskirties pastatas | J2: visi statiniai | K2: visi statiniai | L2: visi statiniai | M2: visi statiniai | N2: visi statiniai | O2: visi statiniai | P2: visi statiniai | Q2: visi statiniai | R2: visi statiniai | S2: visi statiniai
A3: antras gyvenamasis pastatas ar kitas pastatas | C3: kiti statiniai | E3: antras gyvenamasis pastatas ar kitas pastatas | F3: globos namai | G3: kino teatras, teatras, muziejus | H3: kiti statiniai | I3: viešbutis at viešbučių kompleksas iki 10 tūkst. m2 (imtinai) | J3: daugiaaukštė automobilių stovėjimo aikštelė | S3: kiti inžineriniai statiniai, neturintys aiškios funkcinės priklausomybės ar apibrėžto naudojimo, kurie tarnauja pagrindiniam daiktui (kiemo aikštelės, stoginės, pavėsinės ir panašiai)
G4: gydymo paskirties pastatas | I4: viešbutis at viešbučių kompleksas virš 10 tūkst. m2 | S4: susisiekimo komunikacijos
G5: sporto paskirties pastatas ar inžinerinis įrenginys | I5: administracinės paskirties pastatas | S5: vandentiekio, šilumos, nuotekų šalinimo tinklus
G6: atrakcionų ar laisvalaikio praleidimo parkas | I6: prekybos paskirties pastatas
I7: prekybos pastatas, kuriame ne mažiau kaip 40 procentų statomo/rekonstruojamo pastato ploto skiriama sportui ir (ar) sveikatingumui
I8: paslaugų paskirties pastatas
I9: maitinimo paskirties pastatas
I10: sporto paskirties pastatas
I11: kitos paskirties pastatas

Sheet Lapas1

Sheet Lapas4
A1: paskirtis
A2: atliekų saugojimo, rūšiavimo ir utilizavimo teritorija
A3: atskirųjų želdynų teritorija
A4: bendrojo naudojimo teritorija
A5: daugiabučių gyvenamųjų pastatų ir bendrabučių teritorija
A6: kita, nepriklausomai nuo žemės ar pastatų paskirties
A7: komercinės paskirties objektų teritotija
A8: konservacinės paskirties žemė
A9: miškų ūkio paskirties žemė
A10: naudingųjų iškasenų teritorija
A11: pramonės ir sandėliavimo objektų teritorija
A12: rekreacinė teritorija
... A20: žemės ūkio paskirties žemė
